BEGIN:VCALENDAR
VERSION:2.0
PRODID:-//ChamberMaster//Event Calendar 2.0//EN
METHOD:PUBLISH
X-PUBLISHED-TTL:P3D
REFRESH-INTERVAL:P3D
CALSCALE:GREGORIAN
BEGIN:VEVENT
DTSTART:20240125T153000Z
DTEND:20240125T163000Z
X-MICROSOFT-CDO-ALLDAYEVENT:FALSE
SUMMARY:Member Orientation
DESCRIPTION:We invite you to learn how the Longmont Chamber can help you build your business\, make new connections and strengthen our community and economy. This event will share the ways you can get the most out of your membership.\n\nChamber board members\, ambassadors\, and staff may also attend to welcome new members.\n\n\n\nPlease register so we know to expect you!
X-ALT-DESC;FMTTYPE=text/html:<p>We invite you to learn how the Longmont Chamber can help you build your business\, make new connections and strengthen our community and economy. This event will share the ways you can get the most out of your membership.</p>\n\n<p>Chamber board members\, ambassadors\, and staff may also&nbsp\;attend to welcome new members.<br />\n<br />\nPlease register so we know to expect you!</p>\n
LOCATION:This event is currently in-person. January 25th\, 2024 we will be meeting at The Times Collaborative\, at 338 Main Street\, in the conference room located on the first floor. The best place to park is to find a spot in the lot behind the building\, to the East of Main Street. The conference room is the second door on the right if you come in through the back door.
UID:e.3083.8713
SEQUENCE:3
DTSTAMP:20260422T152141Z
URL:https://members.longmontchamber.org/events/details/member-orientation-01-25-2024-8713
END:VEVENT

END:VCALENDAR
