BEGIN:VCALENDAR
VERSION:2.0
PRODID:-//ChamberMaster//Event Calendar 2.0//EN
METHOD:PUBLISH
X-PUBLISHED-TTL:P3D
REFRESH-INTERVAL:P3D
CALSCALE:GREGORIAN
BEGIN:VEVENT
DTSTART:20240222T153000Z
DTEND:20240222T163000Z
X-MICROSOFT-CDO-ALLDAYEVENT:FALSE
SUMMARY:Member Orientation
DESCRIPTION:We invite you to learn how the Longmont Chamber can help you build your business\, make new connections and strengthen our community and economy. This event will share the ways you can get the most out of your membership.\n\nChamber board members\, ambassadors\, and staff may also attend to welcome new members.\n\nPlease register\, so we know to expect you!
X-ALT-DESC;FMTTYPE=text/html:<p>We invite you to learn how the Longmont Chamber can help you build your business\, make new connections and strengthen our community and economy. This event will share the ways you can get the most out of your membership.</p>\n\n<p>Chamber board members\, ambassadors\, and staff may also&nbsp\;attend to welcome new members.</p>\n\n<p>Please register\, so we know to expect you!</p>\n
LOCATION:Our February Member Orientation takes place in our remote location at the Times Collaborative at 338 Main Street. We will meet in the main floor open meeting space.
UID:e.3083.8714
SEQUENCE:3
DTSTAMP:20260422T133018Z
URL:https://members.longmontchamber.org/events/details/member-orientation-02-22-2024-8714
END:VEVENT

END:VCALENDAR
