BEGIN:VCALENDAR
VERSION:2.0
PRODID:-//ChamberMaster//Event Calendar 2.0//EN
METHOD:PUBLISH
X-PUBLISHED-TTL:P3D
REFRESH-INTERVAL:P3D
CALSCALE:GREGORIAN
BEGIN:VEVENT
DTSTART:20260422T143000Z
DTEND:20260422T153000Z
X-MICROSOFT-CDO-ALLDAYEVENT:FALSE
SUMMARY:Member Orientation
DESCRIPTION:We invite you to learn how the Longmont Chamber can help you build your business\, make new connections and strengthen our community and economy. This event will share the ways you can get the most out of your membership.\n\nChamber board members\, ambassadors\, and staff may also attend to welcome new members.\n\nPlease register\, so we know to expect you!
X-ALT-DESC;FMTTYPE=text/html:<p>We invite you to learn how the Longmont Chamber can help you build your business\, make new connections and strengthen our community and economy. This event will share the ways you can get the most out of your membership.</p>\n\n<p>Chamber board members\, ambassadors\, and staff may also&nbsp\;attend to welcome new members.</p>\n\n<p>Please register\, so we know to expect you!</p>\n
LOCATION:Our Member Orientation takes place in our Chamber office located at 528 Main Street. The best place to park is in the lot behind our building and enter through our back door.
UID:e.3083.13335
SEQUENCE:3
DTSTAMP:20260420T150618Z
URL:https://members.longmontchamber.org/events/details/member-orientation-04-22-2026-13335
END:VEVENT

END:VCALENDAR
