BEGIN:VCALENDAR
VERSION:2.0
PRODID:-//ChamberMaster//Event Calendar 2.0//EN
METHOD:PUBLISH
X-PUBLISHED-TTL:P3D
REFRESH-INTERVAL:P3D
CALSCALE:GREGORIAN
BEGIN:VEVENT
DTSTART:20230427T143000Z
DTEND:20230427T153000Z
X-MICROSOFT-CDO-ALLDAYEVENT:FALSE
SUMMARY:Member Orientation
DESCRIPTION:We invite you to learn how the Longmont Chamber can help you build your business\, make new connections and strengthen our community and economy. This event will share the ways you can get the most out of your membership.\n\nChamber board members\, ambassadors\, and staff may also  attend to welcome new members.
X-ALT-DESC;FMTTYPE=text/html:<p>We invite you to learn how the Longmont Chamber can help you build your business\, make new connections and strengthen our community and economy. This event will share the ways you can get the most out of your membership.</p>\n\n<p>Chamber board members\, ambassadors\, and staff may also&nbsp\; attend to welcome new members.</p>\n
LOCATION:Longmont Chamber 528 Main St. in the Conference Room.
UID:e.3083.8704
SEQUENCE:3
DTSTAMP:20260423T052319Z
URL:https://members.longmontchamber.org/events/details/member-orientation-04-27-2023-8704
END:VEVENT

END:VCALENDAR
