BEGIN:VCALENDAR
VERSION:2.0
PRODID:-//ChamberMaster//Event Calendar 2.0//EN
METHOD:PUBLISH
X-PUBLISHED-TTL:P3D
REFRESH-INTERVAL:P3D
CALSCALE:GREGORIAN
BEGIN:VEVENT
DTSTART:20230622T143000Z
DTEND:20230622T153000Z
X-MICROSOFT-CDO-ALLDAYEVENT:FALSE
SUMMARY:Member Orientation
DESCRIPTION:We invite you to learn how the Longmont Chamber can help you build your business\, make new connections and strengthen our community and economy. This event will share the ways you can get the most out of your membership.\n\nChamber board members\, ambassadors\, and staff may also  attend to welcome new members.\n\nZoom Meeting information will be sent to those registered\, so please register!
X-ALT-DESC;FMTTYPE=text/html:<p>We invite you to learn how the Longmont Chamber can help you build your business\, make new connections and strengthen our community and economy. This event will share the ways you can get the most out of your membership.</p>\n\n<p>Chamber board members\, ambassadors\, and staff may also&nbsp\; attend to welcome new members.</p>\n\n<p>Zoom Meeting information will be sent to those registered\, so please register!</p>\n
LOCATION:Please note the Longmont Chamber office is temporarily closed and Orientation is being held at the BOLO Realtors Office at 420 Kimbark. Attendees may also join virtually on Zoom. Zoom information is sent after you register!
UID:e.3083.8706
SEQUENCE:3
DTSTAMP:20260423T033656Z
URL:https://members.longmontchamber.org/events/details/member-orientation-06-22-2023-8706
END:VEVENT

END:VCALENDAR
