BEGIN:VCALENDAR
VERSION:2.0
PRODID:-//ChamberMaster//Event Calendar 2.0//EN
METHOD:PUBLISH
X-PUBLISHED-TTL:P3D
REFRESH-INTERVAL:P3D
CALSCALE:GREGORIAN
BEGIN:VEVENT
DTSTART:20230928T143000Z
DTEND:20230928T153000Z
X-MICROSOFT-CDO-ALLDAYEVENT:FALSE
SUMMARY:Member Orientation
DESCRIPTION:We invite you to learn how the Longmont Chamber can help you build your business\, make new connections and strengthen our community and economy. This event will share the ways you can get the most out of your membership.\n\nChamber board members\, ambassadors\, and staff may also  attend to welcome new members.\n\nZoom Meeting information will be sent to those registered\, so please register!
X-ALT-DESC;FMTTYPE=text/html:<p>We invite you to learn how the Longmont Chamber can help you build your business\, make new connections and strengthen our community and economy. This event will share the ways you can get the most out of your membership.</p>\n\n<p>Chamber board members\, ambassadors\, and staff may also&nbsp\; attend to welcome new members.</p>\n\n<p>Zoom Meeting information will be sent to those registered\, so please register!</p>\n
LOCATION:This event is being offered in a hybrid format\, you may attend in person at 420 Kimbark St. the BOLO Realtors office or you may join virtually on Zoom. Zoom information is sent after you register!
UID:e.3083.8709
SEQUENCE:3
DTSTAMP:20260422T215030Z
URL:https://members.longmontchamber.org/events/details/member-orientation-09-28-2023-8709
END:VEVENT

END:VCALENDAR
