BEGIN:VCALENDAR
VERSION:2.0
PRODID:-//ChamberMaster//Event Calendar 2.0//EN
METHOD:PUBLISH
X-PUBLISHED-TTL:P3D
REFRESH-INTERVAL:P3D
CALSCALE:GREGORIAN
BEGIN:VEVENT
DTSTART:20191024T143000Z
DTEND:20191024T153000Z
X-MICROSOFT-CDO-ALLDAYEVENT:FALSE
SUMMARY:Member Orientation
DESCRIPTION:To best leverage your Chamber membership\, Member Orientation educates you on what your membership entails\, why your membership is important to the business community\, and how to get involved in a way that suits you and your business.\n\nChamber board\, ambassadors\, and staff also attend to welcome new members.   Snacks will be provided by Chick-fil-a\n\nTo sponsor a Member Orientation and be the first to introduce the Chamber's newest members to your business\, contact Karen Stallard at kstallard@longmontchamber.org or 720-864-2878.
X-ALT-DESC;FMTTYPE=text/html:<span style="font-size:12px\;"><span style="color: rgb(0\, 0\, 0)\; font-family: Verdana\;">To best leverage your Chamber membership\, Member Orientation educates you on what your membership entails\, why your membership is important to the business community\, and how to get involved in a way that suits you and your business.</span><br style="color: rgb(0\, 0\, 0)\; font-family: Verdana\; font-size: 10px\;" />\n<span style="color: rgb(0\, 0\, 0)\; font-family: Verdana\;">Chamber board\, ambassadors\, and staff also attend to welcome new members.&nbsp\; &nbsp\;Snacks will be provided by Chick-fil-a</span><br style="color: rgb(0\, 0\, 0)\; font-family: Verdana\; font-size: 10px\;" />\n<span style="color: rgb(0\, 0\, 0)\; font-family: Verdana\;">To sponsor a Member Orientation and be the first to introduce&nbsp\;the Chamber&#39\;s newest members to your business\, contact Karen&nbsp\;</span>Stallard<span style="color: rgb(0\, 0\, 0)\; font-family: Verdana\;">&nbsp\;at&nbsp\;</span>kstallard<span style="color: rgb(0\, 0\, 0)\; font-family: Verdana\;">@longmontchamber.org or 720-864-2878.&nbsp\;</span></span>
LOCATION:Longmont Area Chamber of Commerce Conference Room 528 Main Street Longmont
UID:e.3083.6623
SEQUENCE:3
DTSTAMP:20260426T024039Z
URL:https://members.longmontchamber.org/events/details/member-orientation-11-28-2019-6623
END:VEVENT

END:VCALENDAR
