BEGIN:VCALENDAR
VERSION:2.0
PRODID:-//ChamberMaster//Event Calendar 2.0//EN
METHOD:PUBLISH
X-PUBLISHED-TTL:P3D
REFRESH-INTERVAL:P3D
CALSCALE:GREGORIAN
BEGIN:VEVENT
DTSTART:20250523T223000Z
DTEND:20250526T180000Z
X-MICROSOFT-CDO-ALLDAYEVENT:FALSE
SUMMARY:Memorial Day 2025
DESCRIPTION:On Friday\, May 23rd visit American Legion Post 32 for their Buddy Poppy Day fundraiser!\n\n\n\nOn Monday\, May 26th join us for the Memorial Day celebrations at the following locations for the Laying of Wreaths.  Rifle Volley & Taps to honor those veterans who sacrificed everything to keep freedom free:\n\n	9:00am Stephen Day Park\n	10:00am Foothills Cemetery\n	11:00am Mt. View Cemetery w/ Guest Speaker\n	12:00pm Flag Raising at AL P32
X-ALT-DESC;FMTTYPE=text/html:<br />\n<span style="font-size:22px\;">On Friday\, May 23rd visit American Legion Post 32 for their Buddy Poppy Day fundraiser!<br />\n<br />\nOn Monday\, May 26th join us for the Memorial Day celebrations at the following locations for the Laying of Wreaths.&nbsp\; Rifle Volley &amp\; Taps to honor those veterans who sacrificed everything to keep freedom free:</span>\n<ul>\n	<li><span style="font-size:22px\;">9:00am Stephen Day Park</span></li>\n	<li><span style="font-size:22px\;">10:00am Foothills Cemetery</span></li>\n	<li><span style="font-size:22px\;">11:00am Mt. View Cemetery w/ Guest Speaker</span></li>\n	<li><span style="font-size:22px\;">12:00pm Flag Raising at AL P32</span></li>\n</ul>\n
LOCATION:
UID:e.3083.13459
SEQUENCE:3
DTSTAMP:20260421T142139Z
URL:https://members.longmontchamber.org/events/details/memorial-day-2025-13459
END:VEVENT

END:VCALENDAR
