BEGIN:VCALENDAR
VERSION:2.0
PRODID:-//ChamberMaster//Event Calendar 2.0//EN
METHOD:PUBLISH
X-PUBLISHED-TTL:P3D
REFRESH-INTERVAL:P3D
CALSCALE:GREGORIAN
BEGIN:VEVENT
DTSTART:20240417T143000Z
DTEND:20240417T160000Z
X-MICROSOFT-CDO-ALLDAYEVENT:FALSE
SUMMARY:Mid Main & North Main Meeting
DESCRIPTION:Join your fellow Mid and North Main Businesses for the April meeting!\n\n\n\nDid you know? Many Main Street businesses are in an Enterprise Zone.  There are several advantages for your business to being in this zone. Erin Fosdick with the LEDP will review these advantages and how you can access them for your business. Harold Dominguez\, City Manager will do a quick city update and attendees will hear about transportation plans for the Mid and North Main corridor.  \n\n \n\nNorth Main Meetings are quarterly meetings that include a lite breakfast\, networking and presentations geared especially for the Mid and North Main corridor from Hwy 66 south to the LDDA boundary (8th Avenue or Longs Peak Avenue). Meetings are hosted by the Longmont Chamber and the Longmont Economic Development Partnership (LEDP). There is no charge to attend the meetings and businesses do not need to be a member or investor in either organization.
X-ALT-DESC;FMTTYPE=text/html:<p style="margin-bottom:8pt"><span style="color: black\;">Join your fellow Mid and North Main Businesses for the April meeting!<br />\n<br />\nDid you know? Many Main Street businesses are in an Enterprise Zone.&nbsp\; There are several advantages for your business to being in this zone. Erin Fosdick with the LEDP will review these advantages and how you can access them for your business. Harold Dominguez\, City Manager will do a quick city update and attendees will hear about transportation plans for the Mid and North Main corridor.&nbsp\; </span><br />\n&nbsp\;</p>\n\n<p style="margin-bottom:8pt"><span style="color: black\;">North Main Meetings are quarterly meetings that include a lite breakfast\, networking and presentations geared especially for the Mid and North Main corridor from Hwy 66 south to the LDDA boundary (8<sup>th</sup> Avenue or Longs Peak Avenue). Meetings are hosted by the Longmont Chamber and the Longmont Economic Development Partnership (LEDP). There is no charge to attend the meetings and businesses do not need to be a member or investor in either organization. &nbsp\;</span></p>\n
LOCATION:First Interstate Bank 2100 Main Street Longmont\, CO 80501
UID:e.3083.10071
SEQUENCE:3
DTSTAMP:20260422T104851Z
URL:https://members.longmontchamber.org/events/details/mid-main-north-main-meeting-10071
END:VEVENT

END:VCALENDAR
