BEGIN:VCALENDAR
VERSION:2.0
PRODID:-//ChamberMaster//Event Calendar 2.0//EN
METHOD:PUBLISH
X-PUBLISHED-TTL:P3D
REFRESH-INTERVAL:P3D
CALSCALE:GREGORIAN
BEGIN:VEVENT
DTSTART:20240717T143000Z
DTEND:20240717T160000Z
X-MICROSOFT-CDO-ALLDAYEVENT:FALSE
SUMMARY:Mid Main & North Main Meeting
DESCRIPTION:The July Mid and North Main Meeting will include networking time and a discussion with Public Safety Chief Zach Ardis. Chief Ardis will cover ongoing existing public safety work\, new initiatives and how mid and north main businesses can collaborate with Longmont Public Safety. Erin Fosdick\, President and CEO of the Longmont Economic Development Partnership (LEDP) will also do a quick review on Enterprise Zone benefits for your business- the previous topic at the Quarter 2 meeting. \n\n\n\nNorth Main Meetings are quarterly meetings that include a lite breakfast\, networking and presentations geared especially for the Mid and North Main corridor from Hwy 66 south to the LDDA boundary (8th Avenue or Longs Peak Avenue). Meetings are hosted by the Longmont Chamber and the Longmont Economic Development Partnership (LEDP). There is no charge to attend the meetings and businesses do not need to be a member or investor in either organization.
X-ALT-DESC;FMTTYPE=text/html:<span style="color: black\;">The July Mid and North Main Meeting will include networking time and a discussion with Public Safety Chief Zach Ardis. Chief Ardis will cover ongoing existing public safety work\, new initiatives and how mid and north main businesses can collaborate with Longmont Public Safety. Erin Fosdick\, President and CEO of the Longmont Economic Development Partnership (LEDP) will also do a quick review on Enterprise Zone benefits for your business- the previous topic at the Quarter 2 meeting.&nbsp\;<br />\n<br />\nNorth Main Meetings are quarterly meetings that include a lite breakfast\, networking and presentations geared especially for the Mid and North Main corridor from Hwy 66 south to the LDDA boundary (8<sup>th</sup> Avenue or Longs Peak Avenue). Meetings are hosted by the Longmont Chamber and the Longmont Economic Development Partnership (LEDP). There is no charge to attend the meetings and businesses do not need to be a member or investor in either organization. &nbsp\;</span>
LOCATION:Atomic Goblin Games 1515 Main Street #4 Longmont\, CO 80501
UID:e.3083.10156
SEQUENCE:3
DTSTAMP:20260422T043807Z
URL:https://members.longmontchamber.org/events/details/mid-main-north-main-meeting-10156
END:VEVENT

END:VCALENDAR
