BEGIN:VCALENDAR
VERSION:2.0
PRODID:-//ChamberMaster//Event Calendar 2.0//EN
METHOD:PUBLISH
X-PUBLISHED-TTL:P3D
REFRESH-INTERVAL:P3D
CALSCALE:GREGORIAN
BEGIN:VEVENT
DTSTART:20241023T143000Z
DTEND:20241023T160000Z
X-MICROSOFT-CDO-ALLDAYEVENT:FALSE
SUMMARY:Mid Main & North Main Meeting
DESCRIPTION:The October Mid and North Main Meeting will include networking time and discussion.  \n\n\n\nNorth Main Meetings are quarterly meetings that include a lite breakfast\, networking and presentations geared especially for the Mid and North Main corridor from Hwy 66 south to the LDDA boundary (8th Avenue or Longs Peak Avenue). Meetings are hosted by the Longmont Chamber and the Longmont Economic Development Partnership (LEDP). There is no charge to attend the meetings and businesses do not need to be a member or investor in either organization.
X-ALT-DESC;FMTTYPE=text/html:<span style="color: black\;">The October Mid and North Main Meeting will include networking time and discussion.&nbsp\;&nbsp\;<br />\n<br />\nNorth Main Meetings are quarterly meetings that include a lite breakfast\, networking and presentations geared especially for the Mid and North Main corridor from Hwy 66 south to the LDDA boundary (8<sup>th</sup> Avenue or Longs Peak Avenue). Meetings are hosted by the Longmont Chamber and the Longmont Economic Development Partnership (LEDP). There is no charge to attend the meetings and businesses do not need to be a member or investor in either organization. &nbsp\;</span>
LOCATION:Horizon Park Shopping Center 2255 Main St\, Longmont\, CO 80501 (Exact meeting location to be announced.)
UID:e.3083.10234
SEQUENCE:3
DTSTAMP:20260422T012916Z
URL:https://members.longmontchamber.org/events/details/mid-main-north-main-meeting-10234
END:VEVENT

END:VCALENDAR
