BEGIN:VCALENDAR
VERSION:2.0
PRODID:-//ChamberMaster//Event Calendar 2.0//EN
METHOD:PUBLISH
X-PUBLISHED-TTL:P3D
REFRESH-INTERVAL:P3D
CALSCALE:GREGORIAN
BEGIN:VEVENT
DTSTART:20250825T233000Z
DTEND:20250826T013000Z
X-MICROSOFT-CDO-ALLDAYEVENT:FALSE
SUMMARY:Minimum Wage "Fishbowl" Event
DESCRIPTION:The Longmont City Council is hosting a "fishbowl" conversation on minimum wage. Included in the conversation will be employers and employees sharing the different impacts of what a minimum wage increase would mean for them.
X-ALT-DESC;FMTTYPE=text/html:The Longmont City Council is hosting a &quot\;fishbowl&quot\; conversation on minimum wage. Included in the conversation will be employers and employees sharing the different impacts of what a minimum wage increase would mean for them.&nbsp\;
LOCATION:Longmont Senior Center
UID:e.3083.13987
SEQUENCE:3
DTSTAMP:20260421T080709Z
URL:https://members.longmontchamber.org/events/details/minimum-wage-fishbowl-event-13987
END:VEVENT

END:VCALENDAR
