BEGIN:VCALENDAR
VERSION:2.0
PRODID:-//ChamberMaster//Event Calendar 2.0//EN
METHOD:PUBLISH
X-PUBLISHED-TTL:P3D
REFRESH-INTERVAL:P3D
CALSCALE:GREGORIAN
BEGIN:VEVENT
DTSTART:20240223T160000Z
DTEND:20240223T173000Z
X-MICROSOFT-CDO-ALLDAYEVENT:FALSE
SUMMARY:Minimum Wage Focus Group #1
DESCRIPTION:Earlier in 2023\, the Boulder County Consortium of Cities agreed to consider raising the local minimum wage in their communities\, as allowed by state law. Elected officials from various cities determined a need for public involvement and economic data in order to make an informed decision on such a change. To advance regional conversations on minimum wage\, two multijurisdictional teams have been meeting since August to scope next steps including an economic analysis and community engagement. The scoping teams have included one staff member from each of the five participating communities\, members of Chambers of Commerce\, members of the Self Sufficiency Wage Coalition\, and members of nonprofits. Continue reading more here at the Boulder County website\n\n\n\nThe City of Longmont Focus Groups will be moderated by Sandi Seader\, Assistant City Manager. There are 5 total with a different set of businesses represented in each group.  Contact Scott Cook for more information or to reserve a seat.
X-ALT-DESC;FMTTYPE=text/html:<span>Earlier in 2023\, the Boulder County Consortium of Cities agreed to consider raising the local minimum wage in their communities\, as allowed by state law. Elected officials from various cities determined a need for public involvement and economic data in order to make an informed decision on such a change. To advance regional conversations on minimum wage\, two multijurisdictional teams have been meeting since August to scope next steps including an economic analysis and community engagement. The scoping teams have included one staff member from each of the five participating communities\, members of Chambers of Commerce\, members of the Self Sufficiency Wage Coalition\, and members of nonprofits. Continue reading more here at the <a href="https://bouldercolorado.gov/news/heads-dec-1-2023">Boulder County website</a></span><br />\n<br />\nThe City of Longmont Focus Groups will be moderated by Sandi Seader\, Assistant City Manager. There are 5 total with a different set of businesses represented in each group.&nbsp\; Contact Scott Cook for more information or to reserve a seat.<br />\n&nbsp\;
LOCATION:Longmont Civic Center\, 350 Kimbark Street
UID:e.3083.10027
SEQUENCE:3
DTSTAMP:20260422T132630Z
URL:https://members.longmontchamber.org/events/details/minimum-wage-focus-group-1-10027
END:VEVENT

END:VCALENDAR
