BEGIN:VCALENDAR
VERSION:2.0
PRODID:-//ChamberMaster//Event Calendar 2.0//EN
METHOD:PUBLISH
X-PUBLISHED-TTL:P3D
REFRESH-INTERVAL:P3D
CALSCALE:GREGORIAN
BEGIN:VEVENT
DTSTART:20210318T143000Z
DTEND:20210318T153000Z
X-MICROSOFT-CDO-ALLDAYEVENT:FALSE
SUMMARY:Morning Masterminds \, Networking Group
DESCRIPTION:Morning Masterminds is a Networking Group of the Longmont Chamber and is formatted as a Business Connection Group. Lattes and Leads meets every 1st and 3rd Thursday at La Momo Maes Bakery & Cafe. It offers networking\, education\, group discussion\, and relationship-building among professionals.\n\nLeads Groups are a great way to deeply connect with other local business leaders and share leads and ideas.\n\nOne representative from each industry may attend a Networking Group. Please contact the facilitators before attending.
X-ALT-DESC;FMTTYPE=text/html:<p style="line-height: 1.7em\;">Morning Masterminds is a Networking Group of the Longmont Chamber and is formatted as a Business Connection Group.&nbsp\;Lattes and Leads meets every 1st and 3rd Thursday at La Momo Maes Bakery &amp\; Cafe. It offers networking\, education\, group discussion\, and relationship-building among professionals.</p>\n\n<p style="line-height: 1.7em\;">Leads Groups are a great way to deeply connect with other local business leaders and share leads and ideas.</p>\n\n<p style="line-height: 1.7em\;">One representative from each industry may attend a Networking Group. Please contact the facilitators before attending.</p>\n
LOCATION:Currently meeting virtually
UID:e.3083.3533
SEQUENCE:3
DTSTAMP:20260424T215629Z
URL:https://members.longmontchamber.org/events/details/morning-masterminds-networking-group-03-18-2021-3533
END:VEVENT

END:VCALENDAR
