BEGIN:VCALENDAR
VERSION:2.0
PRODID:-//ChamberMaster//Event Calendar 2.0//EN
METHOD:PUBLISH
X-PUBLISHED-TTL:P3D
REFRESH-INTERVAL:P3D
CALSCALE:GREGORIAN
BEGIN:VEVENT
DTSTART:20250511T200000Z
DTEND:20250512T020000Z
X-MICROSOFT-CDO-ALLDAYEVENT:FALSE
SUMMARY:Mother's Day Sunday: Free Chocolates and Flowers!
DESCRIPTION:Where\, what\, or who would we be without our Mothers?\n\nWe honor the beauty and complexities of motherhood\, mothering\, mothers\, and mother relationships\, all!\n\nCome celebrate with the beauty and complexities of our cocktail specials and free flowers and specially-made boozy chocolates\, by Robin's Chocolates\, for the Mamas.\n\nMother's Day Sunday kicks off our new seasonal Sunday hours! We look forward to seeing you between 2-8pm.
X-ALT-DESC;FMTTYPE=text/html:<p><span style="font-size:20px\;">Where\, what\, or who would we be without our Mothers?</span></p>\n\n<p><span style="font-size:20px\;">We honor the beauty and complexities of motherhood\, mothering\, mothers\, and mother relationships\, all!</span></p>\n\n<p><span style="font-size:20px\;">Come celebrate with the beauty and complexities of our cocktail specials and free flowers and specially-made boozy chocolates\, by&nbsp\;<a href="https://robinchocolates.com/">Robin&#39\;s Chocolates</a>\, for the Mamas.</span></p>\n\n<p><span style="font-size:20px\;">Mother&#39\;s Day Sunday kicks off our new seasonal Sunday hours! We look forward to seeing you between 2-8pm.</span></p>\n
LOCATION:
UID:e.3083.13323
SEQUENCE:3
DTSTAMP:20260421T143539Z
URL:https://members.longmontchamber.org/events/details/mother-s-day-sunday-free-chocolates-and-flowers-13323
END:VEVENT

END:VCALENDAR
