BEGIN:VCALENDAR
VERSION:2.0
PRODID:-//ChamberMaster//Event Calendar 2.0//EN
METHOD:PUBLISH
X-PUBLISHED-TTL:P3D
REFRESH-INTERVAL:P3D
CALSCALE:GREGORIAN
BEGIN:VEVENT
DTSTART:20220730T020000Z
DTEND:20220730T050000Z
X-MICROSOFT-CDO-ALLDAYEVENT:FALSE
SUMMARY:Mrs. Nezbitt & LOUDHOUSE at The Times Collaborative
DESCRIPTION:The aggressively optimistic punk trio\, Mrs. Nezbitt\, have been performing all over Denver since 2020 with their uniquely developed sound. Indie rock influences and post-punk fusion brings a high energy atmosphere on and off the stage. LOUDHOUSE is for everyone. With a genre-fluid style and five powerful and artistic opinions\, anytime you listen to LOUDHOUSE you will find a song that you enjoy.  Doors open at 8\, see you there!
X-ALT-DESC;FMTTYPE=text/html:<span style="color:rgb(41\, 43\, 44)\; font-family:source sans pro\,helvetica neue\,helvetica\,arial\,sans-serif\; font-size:14px">The aggressively optimistic punk trio\, Mrs. Nezbitt\, have been performing all over Denver since 2020 with their uniquely developed sound. Indie rock influences and post-punk fusion brings a high energy atmosphere on and off the stage.&nbsp\;LOUDHOUSE is for everyone. With a genre-fluid style and five powerful and artistic opinions\, anytime you listen to LOUDHOUSE you will find a song that you enjoy. &nbsp\;Doors open at 8\, see you there!</span>
LOCATION:The Times Collaborative\, 338 Main St
UID:e.3083.8833
SEQUENCE:3
DTSTAMP:20260423T193122Z
URL:https://members.longmontchamber.org/events/details/mrs-nezbitt-loudhouse-at-the-times-collaborative-8833
END:VEVENT

END:VCALENDAR
