BEGIN:VCALENDAR
VERSION:2.0
PRODID:-//ChamberMaster//Event Calendar 2.0//EN
METHOD:PUBLISH
X-PUBLISHED-TTL:P3D
REFRESH-INTERVAL:P3D
CALSCALE:GREGORIAN
BEGIN:VEVENT
DTSTART:20230921T000000Z
DTEND:20230921T020000Z
X-MICROSOFT-CDO-ALLDAYEVENT:FALSE
SUMMARY:Mug Paint & Sip @ Oskar Blues
DESCRIPTION:Grab a delicious brew at Oskar Blues while painting your own secondhand mug with Coy Ink! We'll be using enamel markers so you can cure the ink in the oven afterwards to make it dishwasher safe! All mugs will look different since they're secondhand.
X-ALT-DESC;FMTTYPE=text/html:Grab a delicious brew at Oskar Blues while painting your own secondhand mug with Coy Ink! We&#39\;ll be using enamel markers so you can cure the ink in the oven afterwards to make it dishwasher safe! All mugs will look different since they&#39\;re secondhand.
LOCATION:Oskar Blues Brewery Taproom 1640 South Sunset Street Longmont\, CO 80501
UID:e.3083.9697
SEQUENCE:3
DTSTAMP:20260422T215102Z
URL:https://members.longmontchamber.org/events/details/mug-paint-sip-oskar-blues-9697
END:VEVENT

END:VCALENDAR
