BEGIN:VCALENDAR
VERSION:2.0
PRODID:-//ChamberMaster//Event Calendar 2.0//EN
METHOD:PUBLISH
X-PUBLISHED-TTL:P3D
REFRESH-INTERVAL:P3D
CALSCALE:GREGORIAN
BEGIN:VEVENT
DTSTART:20220923T003000Z
DTEND:20220923T023000Z
X-MICROSOFT-CDO-ALLDAYEVENT:FALSE
SUMMARY:Mug Painting @ Oskar Blues
DESCRIPTION:Enjoy a paint & sip at your favorite brewery! Supplies included & your first beer is free.\n\n\n\nAbout this event\n\n\n\n\nIn this paint & sip\, we'll be painting on secondhand mugs using enamel markers so you can cure the ink in the oven afterwards to make it dishwasher safe! All mugs will look different since they're secondhand. You get to take the mug home with you as well as the instructions on how to cure the ink so it won't wash off.\n\nIncludes one free beer from Oskar Blues and printed instructions. Taught by Coy Ink - local artist & illustrator.\n\nSuggested ideas on what to paint will be provided\, but feel free to paint whatever inspires you or bring your own photos to work from.
X-ALT-DESC;FMTTYPE=text/html:<div>\n<p><strong>Enjoy a paint &amp\; sip at your favorite brewery! Supplies included &amp\; your first beer is free.</strong></p>\n</div>\n\n<div>\n<h2>About this event</h2>\n\n<div>\n<div>\n<div>\n<p>In this paint &amp\; sip\, we&#39\;ll be painting on secondhand mugs using enamel markers so you can cure the ink in the oven afterwards to make it dishwasher safe! All mugs will look different since they&#39\;re secondhand. You get to take the mug home with you as well as the instructions on how to cure the ink so it won&#39\;t wash off.</p>\n\n<p>Includes one free beer from Oskar Blues and printed instructions. Taught by&nbsp\;<a href="http://coyinkstudio.com/" rel="nofollow noopener noreferrer" style="text-decoration-line: none\; color: var(--eds-control\,#3659e3)\; cursor: pointer\; background-color: transparent\; padding-top: 0px\;" target="_blank">Coy Ink</a>&nbsp\;- local artist &amp\; illustrator.</p>\n\n<p>Suggested ideas on what to paint will be provided\, but feel free to paint whatever inspires you or bring your own photos to work from.</p>\n</div>\n</div>\n</div>\n</div>\n
LOCATION:Oskar Blues Brewery Taproom 1640 South Sunset Street Longmont\, CO Longmont\, CO 80501
UID:e.3083.8842
SEQUENCE:3
DTSTAMP:20260423T161735Z
URL:https://members.longmontchamber.org/events/details/mug-painting-oskar-blues-8842
END:VEVENT

END:VCALENDAR
