BEGIN:VCALENDAR
VERSION:2.0
PRODID:-//ChamberMaster//Event Calendar 2.0//EN
METHOD:PUBLISH
X-PUBLISHED-TTL:P3D
REFRESH-INTERVAL:P3D
CALSCALE:GREGORIAN
BEGIN:VEVENT
DTSTART:20220319T170000Z
DTEND:20220319T190000Z
X-MICROSOFT-CDO-ALLDAYEVENT:FALSE
SUMMARY:Mug Painting Workshop
DESCRIPTION:Please join Amanda of Coy Ink and draw a mountain scene or cityscape on secondhand mugs with an enamel pen that you get to keep for next time! There will be several mug sizes\, shapes\, and colors to choose from. Snacks & drinks provided. Finish mugs in the oven at home. Dishwasher safe!
X-ALT-DESC;FMTTYPE=text/html:<span style="font-size:14px\;"><span style="font-family:tahoma\;">Please join Amanda&nbsp\;of Coy Ink and&nbsp\;draw a mountain scene or cityscape on secondhand mugs with an enamel pen that you get to keep for next time! There will be several mug sizes\, shapes\, and colors to choose from. Snacks&nbsp\;&amp\; drinks provided. Finish mugs in the oven at home. Dishwasher safe!</span></span>
LOCATION:Maker General 381 Main St Longmont\, CO 80501
UID:e.3083.8671
SEQUENCE:3
DTSTAMP:20260424T013226Z
URL:https://members.longmontchamber.org/events/details/mug-painting-workshop-8671
END:VEVENT

END:VCALENDAR
