BEGIN:VCALENDAR
VERSION:2.0
PRODID:-//ChamberMaster//Event Calendar 2.0//EN
METHOD:PUBLISH
X-PUBLISHED-TTL:P3D
REFRESH-INTERVAL:P3D
CALSCALE:GREGORIAN
BEGIN:VEVENT
DTSTART:20241019T003000Z
DTEND:20241019T040000Z
X-MICROSOFT-CDO-ALLDAYEVENT:FALSE
SUMMARY:Murder Mystery Dinner at Callahan House
DESCRIPTION:Murder Mystery Dinner   Friday\, October 18\, 2024\n\nEnjoy an unforgettable night of mystery\, intrigue\, and even MURDER (gasp!) at the historic Callahan House\; the perfect backdrop to immerse yourself in a Murder Mystery Dinner! Join us for a classic 1930's Hollywood "whodunnit"\, hosted by The Murder Mystery Co. Enjoy a 3-course dinner with drinks and entertainment. Dress in your best 1930's fashion and be prepared to participate in the mystery as it unfolds.\n\nPlease note: Tables seat 4-8 guests. You may be seated with another party. Prime seating offers best views of actors and activities. Doors will not be open before 6:30. The event will end between 9:30pm and 10pm. No refunds for cancellations within 30 days of the event.\n\nClick here to register for the event.    407989\n\nFee: $120 regular seating\, resident/$150 regular seating\, non-resident\n\nFee: $135 prime seating\, resident/$168.75 prime seating\, non-resident\n\nAges 21 and up\n\n\n	October 18\, 2024\, from 6:30pm   ~10:00pm
X-ALT-DESC;FMTTYPE=text/html:<h3>Murder Mystery Dinner &ndash\; Friday\, October 18\, 2024</h3>\n\n<p>Enjoy an unforgettable night of mystery\, intrigue\, and even MURDER (gasp!) at the historic Callahan House\; the perfect backdrop to immerse yourself in a Murder Mystery Dinner! Join us for a classic 1930&rsquo\;s Hollywood &ldquo\;whodunnit&rdquo\;\, hosted by&nbsp\;<a href="https://www.murdermysteryco.com/" style="box-sizing: border-box\; border-width: 0px\; border-style: solid\; border-color: rgb(229\, 231\, 235)\; --tw-border-spacing-x: 0\; --tw-border-spacing-y: 0\; --tw-translate-x: 0\; --tw-translate-y: 0\; --tw-rotate: 0\; --tw-skew-x: 0\; --tw-skew-y: 0\; --tw-scale-x: 1\; --tw-scale-y: 1\; --tw-pan-x: \; --tw-pan-y: \; --tw-pinch-zoom: \; --tw-scroll-snap-strictness: proximity\; --tw-gradient-from-position: \; --tw-gradient-via-position: \; --tw-gradient-to-position: \; --tw-ordinal: \; --tw-slashed-zero: \; --tw-numeric-figure: \; --tw-numeric-spacing: \; --tw-numeric-fraction: \; --tw-ring-inset: \; --tw-ring-offset-width: 0px\; --tw-ring-offset-color: #fff\; --tw-ring-color: rgb(59 130 246 / .5)\; --tw-ring-offset-shadow: 0 0 #0000\; --tw-ring-shadow: 0 0 #0000\; --tw-shadow: 0 0 #0000\; --tw-shadow-colored: 0 0 #0000\; --tw-blur: \; --tw-brightness: \; --tw-contrast: \; --tw-grayscale: \; --tw-hue-rotate: \; --tw-invert: \; --tw-saturate: \; --tw-sepia: \; --tw-drop-shadow: \; --tw-backdrop-blur: \; --tw-backdrop-brightness: \; --tw-backdrop-contrast: \; --tw-backdrop-grayscale: \; --tw-backdrop-hue-rotate: \; --tw-backdrop-invert: \; --tw-backdrop-opacity: \; --tw-backdrop-saturate: \; --tw-backdrop-sepia: \; --tw-contain-size: \; --tw-contain-layout: \; --tw-contain-paint: \; --tw-contain-style: \; color: rgb(194 81 46 / var(--tw-text-opacity))\; text-decoration-thickness: inherit\; text-decoration-style: inherit\; text-decoration-color: inherit\; --tw-text-opacity: 1\; transition-property: color\, background-color\, border-color\, text-decoration-color\, fill\, stroke\; transition-timing-function: cubic-bezier(0.4\, 0\, 0.2\, 1)\; transition-duration: 0.15s\;">The Murder Mystery Co.</a>&nbsp\;Enjoy a 3-course dinner with drinks and entertainment. Dress in your best 1930&rsquo\;s fashion and be prepared to participate in the mystery as it unfolds.</p>\n\n<p>Please note: Tables seat 4-8 guests. You may be seated with another party. Prime seating offers best views of actors and activities. Doors will not be open before 6:30. The event will end between 9:30pm and 10pm. No refunds for cancellations within 30 days of the event.</p>\n\n<p><a href="https://rec.ci.longmont.co.us/wbwsc/webtrac.wsc/search.html?Action=Start&amp\;SubAction=&amp\;_csrf_token=lb706W0F0K712K2A3T4I1M4I4V62456J68615R503Y085U445O4W66043T6O3W064L3P514T0F5U4S4S5J004U4P5T6J68703O4C696T4L4S594D0N6T3R5F4D0A4O4R5K&amp\;keyword=murder&amp\;display=Detail&amp\;module=Global&amp\;multiselectlist_value=&amp\;globalwebsearch_buttonsearch=yes&amp\;_gl=1*1ho37it*_gcl_au*MTY2NjQ1NDI1MS4xNzIyMjg2NDMy" style="box-sizing: border-box\; border-width: 0px\; border-style: solid\; border-color: rgb(229\, 231\, 235)\; --tw-border-spacing-x: 0\; --tw-border-spacing-y: 0\; --tw-translate-x: 0\; --tw-translate-y: 0\; --tw-rotate: 0\; --tw-skew-x: 0\; --tw-skew-y: 0\; --tw-scale-x: 1\; --tw-scale-y: 1\; --tw-pan-x: \; --tw-pan-y: \; --tw-pinch-zoom: \; --tw-scroll-snap-strictness: proximity\; --tw-gradient-from-position: \; --tw-gradient-via-position: \; --tw-gradient-to-position: \; --tw-ordinal: \; --tw-slashed-zero: \; --tw-numeric-figure: \; --tw-numeric-spacing: \; --tw-numeric-fraction: \; --tw-ring-inset: \; --tw-ring-offset-width: 0px\; --tw-ring-offset-color: #fff\; --tw-ring-color: rgb(59 130 246 / .5)\; --tw-ring-offset-shadow: 0 0 #0000\; --tw-ring-shadow: 0 0 #0000\; --tw-shadow: 0 0 #0000\; --tw-shadow-colored: 0 0 #0000\; --tw-blur: \; --tw-brightness: \; --tw-contrast: \; --tw-grayscale: \; --tw-hue-rotate: \; --tw-invert: \; --tw-saturate: \; --tw-sepia: \; --tw-drop-shadow: \; --tw-backdrop-blur: \; --tw-backdrop-brightness: \; --tw-backdrop-contrast: \; --tw-backdrop-grayscale: \; --tw-backdrop-hue-rotate: \; --tw-backdrop-invert: \; --tw-backdrop-opacity: \; --tw-backdrop-saturate: \; --tw-backdrop-sepia: \; --tw-contain-size: \; --tw-contain-layout: \; --tw-contain-paint: \; --tw-contain-style: \; color: rgb(194 81 46 / var(--tw-text-opacity))\; text-decoration-thickness: inherit\; text-decoration-style: inherit\; text-decoration-color: inherit\; --tw-text-opacity: 1\; transition-property: color\, background-color\, border-color\, text-decoration-color\, fill\, stroke\; transition-timing-function: cubic-bezier(0.4\, 0\, 0.2\, 1)\; transition-duration: 0.15s\;">Click here to register for the event.&nbsp\;</a>&nbsp\;&ndash\; 407989</p>\n\n<p>Fee: $120 regular seating\, resident/$150 regular seating\, non-resident</p>\n\n<p>Fee: $135 prime seating\, resident/$168.75 prime seating\, non-resident</p>\n\n<p>Ages 21 and up</p>\n\n<ul>\n	<li>October 18\, 2024\, from 6:30pm &ndash\; ~10:00pm</li>\n</ul>\n
LOCATION:Callahan House 312 Terry St Longmont\, CO 80501
UID:e.3083.10227
SEQUENCE:3
DTSTAMP:20260421T235608Z
URL:https://members.longmontchamber.org/events/details/murder-mystery-dinner-at-callahan-house-10227
END:VEVENT

END:VCALENDAR
