BEGIN:VCALENDAR
VERSION:2.0
PRODID:-//ChamberMaster//Event Calendar 2.0//EN
METHOD:PUBLISH
X-PUBLISHED-TTL:P3D
REFRESH-INTERVAL:P3D
CALSCALE:GREGORIAN
BEGIN:VEVENT
DTSTART:20251018T003000Z
DTEND:20251018T034500Z
X-MICROSOFT-CDO-ALLDAYEVENT:FALSE
SUMMARY:Murder Mystery Dinners at Callahan House 2025
DESCRIPTION:Murder Mystery Dinners\n\n\nBest Laid Plans (1930's Hollywood Theme)   Friday\, October 17\, 2025\, from 6:30pm to 9:45pm\n\n \n\nDeath of a Gangster (1920's Theme)   Saturday\, October 18\, 2025\, from 6:30pm to 9:45pm\n\n \n\nEnjoy an unforgettable night of intrigue\, mystery\, and MURDER (gasp!) at the historic Callahan House\; the perfect backdrop to immerse yourself in a Murder Mystery Dinner! Join us for a classic "whodunnit"\, hosted by The Murder Mystery Co. Enjoy delicious eats\, drinks\, and entertainment. Dress in your best era fashion and be prepared to participate in the mystery as it unfolds.\n\nRegistration Now Open. Follow this link to learn more and register: 3.1 WEB   WebTrac Multi Search
X-ALT-DESC;FMTTYPE=text/html:<div>\n<p><span style="font-size:22px">Murder Mystery Dinners</span></p>\n</div>\n\n<div><span style="font-size:20px\;">Best Laid Plans (1930&rsquo\;s Hollywood Theme) &ndash\; Friday\, October 17\, 2025\, from 6:30pm to 9:45pm</span><br />\n&nbsp\;</div>\n\n<div><span style="font-size:20px\;">Death of a Gangster (1920&rsquo\;s Theme) &ndash\; Saturday\, October 18\, 2025\, from 6:30pm to 9:45pm</span><br />\n&nbsp\;</div>\n\n<p><span style="font-size:20px\;">Enjoy an unforgettable night of intrigue\, mystery\, and MURDER (gasp!) at the historic Callahan House\; the perfect backdrop to immerse yourself in a Murder Mystery Dinner! Join us for a classic &ldquo\;whodunnit&rdquo\;\, hosted by The Murder Mystery Co. Enjoy delicious eats\, drinks\, and entertainment. Dress in your best era fashion and be prepared to participate in the mystery as it unfolds.</span></p>\n\n<p><span style="font-size:20px\;"><span style="color:rgb(194\, 81\, 46)">Registration Now Open. Follow this link to learn more and register:&nbsp\;<a href="https://rec.ci.longmont.co.us/webtrac/web/search.html?Action=Start&amp\;SubAction=&amp\;_csrf_token=dq6S065S0J0W2G3A1R4N4F4E4T4Q6F696X5Q674H590X023I57560P6Y3O6N4S736R4R6V490F5C4S494W040F5W4G586Y6W4F5A5C6A5V465C43715Q516E5L066R5V54&amp\;module=Global&amp\;keyword=407989&amp\;display=Detail&amp\;multiselectlist_value=&amp\;globalwebsearch_buttonsearch=yes" style="box-sizing: border-box\; border-width: 0px\; border-style: solid\; border-color: rgb(229\, 231\, 235)\; --tw-border-spacing-x: 0\; --tw-border-spacing-y: 0\; --tw-translate-x: 0\; --tw-translate-y: 0\; --tw-rotate: 0\; --tw-skew-x: 0\; --tw-skew-y: 0\; --tw-scale-x: 1\; --tw-scale-y: 1\; --tw-pan-x: \; --tw-pan-y: \; --tw-pinch-zoom: \; --tw-scroll-snap-strictness: proximity\; --tw-gradient-from-position: \; --tw-gradient-via-position: \; --tw-gradient-to-position: \; --tw-ordinal: \; --tw-slashed-zero: \; --tw-numeric-figure: \; --tw-numeric-spacing: \; --tw-numeric-fraction: \; --tw-ring-inset: \; --tw-ring-offset-width: 0px\; --tw-ring-offset-color: #fff\; --tw-ring-color: rgb(59 130 246 / .5)\; --tw-ring-offset-shadow: 0 0 #0000\; --tw-ring-shadow: 0 0 #0000\; --tw-shadow: 0 0 #0000\; --tw-shadow-colored: 0 0 #0000\; --tw-blur: \; --tw-brightness: \; --tw-contrast: \; --tw-grayscale: \; --tw-hue-rotate: \; --tw-invert: \; --tw-saturate: \; --tw-sepia: \; --tw-drop-shadow: \; --tw-backdrop-blur: \; --tw-backdrop-brightness: \; --tw-backdrop-contrast: \; --tw-backdrop-grayscale: \; --tw-backdrop-hue-rotate: \; --tw-backdrop-invert: \; --tw-backdrop-opacity: \; --tw-backdrop-saturate: \; --tw-backdrop-sepia: \; --tw-contain-size: \; --tw-contain-layout: \; --tw-contain-paint: \; --tw-contain-style: \; color: rgb(73\, 107\, 157)\; text-decoration-thickness: inherit\; text-decoration-style: inherit\; text-decoration-color: inherit\; --tw-text-opacity: 1\; transition-property: color\, background-color\, border-color\, text-decoration-color\, fill\, stroke\; transition-timing-function: cubic-bezier(0.4\, 0\, 0.2\, 1)\; transition-duration: 0.15s\;">3.1 WEB &ndash\; WebTrac Multi Search</a></span></span></p>\n
LOCATION:Callahan House 312 Terry St Longmont\, CO 80501
UID:e.3083.14225
SEQUENCE:3
DTSTAMP:20260421T052359Z
URL:https://members.longmontchamber.org/events/details/murder-mystery-dinners-at-callahan-house-2025-14225
END:VEVENT

END:VCALENDAR
