BEGIN:VCALENDAR
VERSION:2.0
PRODID:-//ChamberMaster//Event Calendar 2.0//EN
METHOD:PUBLISH
X-PUBLISHED-TTL:P3D
REFRESH-INTERVAL:P3D
CALSCALE:GREGORIAN
BEGIN:VEVENT
DTSTART:20251106T020000Z
DTEND:20251106T033000Z
X-MICROSOFT-CDO-ALLDAYEVENT:FALSE
SUMMARY:Music Series: First Wednesday Jazz Night With Vic Dillahay & Friends
DESCRIPTION:We are honored to host jazz guitarist Vic Dillahay (and friends!) as a recurring part of our Music Series on the first Wednesday of each month from 7-8:30 p.m.\n\nWith his "wide-open tone and wryly witty compositions"\, guitarist Vic Dillahay blends a myriad of styles into an unmistakable and uniquely unforgettable sound. \n\nExpect a set of jazz standards and familiars\, intermingled with exquisite original compositions.\n\nSettle into the ambiance with a finely crafted cocktail and good community company\, perhaps even make jazz night a first Wednesday of each month tradition!\n\nThe performance is free\, and we encourage a 2-drink minimum as a way of participating in helping us to generously support local musicians.\n\nMusic will begin at 7:00 p.m. and wrap at 8:30. Make sure to keep up to date on our website calendar for any changes or to see who will be joining Vic!\n\nWe look forward to sharing in the experience!
X-ALT-DESC;FMTTYPE=text/html:<p><span style="color:rgb(85\, 85\, 85)\; font-family:arial">We are honored to host jazz guitarist Vic Dillahay (and friends!) as a recurring part of our Music Series on the first Wednesday of each month from 7-8:30 p.m.</span></p>\n\n<p><span style="color:rgb(85\, 85\, 85)\; font-family:arial">With his &quot\;wide-open tone and wryly witty compositions&quot\;\, guitarist&nbsp\;<a href="https://vicdillahay.com/" style="box-sizing: inherit\; outline: none\; transition: 0.2s\;">Vic Dillahay</a>&nbsp\;blends a myriad of styles into an unmistakable and uniquely unforgettable sound.&nbsp\;</span></p>\n\n<p><span style="color:rgb(85\, 85\, 85)\; font-family:arial">Expect a set of jazz standards and familiars\, intermingled with exquisite original compositions.</span></p>\n\n<p><span style="color:rgb(85\, 85\, 85)\; font-family:arial">Settle into the ambiance with a finely crafted cocktail and good community company\, perhaps even make jazz night a first Wednesday of each month tradition!</span></p>\n\n<p><span style="color:rgb(85\, 85\, 85)\; font-family:arial">The performance is free\, and we encourage a 2-drink minimum as a way of participating in helping us to generously support local musicians.</span></p>\n\n<p><span style="color:rgb(85\, 85\, 85)\; font-family:arial">Music will begin at 7:00 p.m. and wrap at 8:30. Make sure to keep up to date on our website calendar for any changes or to see who will be joining Vic!</span></p>\n\n<p><span style="color:rgb(85\, 85\, 85)\; font-family:arial">We look forward to sharing in the experience!</span></p>\n
LOCATION:Dry Land Distillers
UID:e.3083.10755
SEQUENCE:3
DTSTAMP:20260421T033858Z
URL:https://members.longmontchamber.org/events/details/music-series-first-wednesday-jazz-night-with-vic-dillahay-friends-11-05-2025-10755
END:VEVENT

END:VCALENDAR
