BEGIN:VCALENDAR
VERSION:2.0
PRODID:-//ChamberMaster//Event Calendar 2.0//EN
METHOD:PUBLISH
X-PUBLISHED-TTL:P3D
REFRESH-INTERVAL:P3D
CALSCALE:GREGORIAN
BEGIN:VEVENT
DTSTART:20251204T020000Z
DTEND:20251204T033000Z
X-MICROSOFT-CDO-ALLDAYEVENT:FALSE
SUMMARY:Music Series: Jazz Night With Vic Dillahay & Friends
DESCRIPTION:We are honored to host jazz guitarist Vic Dillahay (and friends!) as a recurring part of our Music Series on the first Wednesday of each month from 7-8:30 p.m.\n\nWith his "wide-open tone and wryly witty compositions"\, guitarist Vic Dillahay blends a myriad of styles into an unmistakable and uniquely unforgettable sound. \n\nExpect a set of jazz standards and familiars\, intermingled with exquisite original compositions.\n\nSettle into the ambiance with a finely crafted cocktail and good community company\, perhaps even make jazz night a first Wednesday of each month tradition!\n\nThe performance is free\, and we encourage a 2-drink minimum as a way of participating in helping us to generously support local musicians.\n\n\n\nCheck out our website for up to date info on special guests and any last minute changes!\n\nWe look forward to sharing in the experience!
X-ALT-DESC;FMTTYPE=text/html:<p><span style="color:rgb(85\, 85\, 85)\; font-family:arial\; font-size:18px">We are honored to host jazz guitarist Vic Dillahay (and friends!) as a recurring part of our Music Series on the first Wednesday of each month from 7-8:30 p.m.</span></p>\n\n<p><span style="color:rgb(85\, 85\, 85)\; font-family:arial\; font-size:18px">With his &quot\;wide-open tone and wryly witty compositions&quot\;\, guitarist&nbsp\;<a href="https://vicdillahay.com/">Vic Dillahay</a>&nbsp\;blends a myriad of styles into an unmistakable and uniquely unforgettable sound.&nbsp\;</span></p>\n\n<p><span style="color:rgb(85\, 85\, 85)\; font-family:arial\; font-size:18px">Expect a set of jazz standards and familiars\, intermingled with exquisite original compositions.</span></p>\n\n<p><span style="color:rgb(85\, 85\, 85)\; font-family:arial\; font-size:18px">Settle into the ambiance with a finely crafted cocktail and good community company\, perhaps even make jazz night a first Wednesday of each month tradition!</span></p>\n\n<p><span style="color:rgb(85\, 85\, 85)\; font-family:arial\; font-size:18px">The performance is free\, and we encourage a 2-drink minimum as a way of participating in helping us to generously support local musicians.<br />\n<br />\nCheck out our website for up to date info on special guests and any last minute changes!</span></p>\n\n<p><span style="color:rgb(85\, 85\, 85)\; font-family:arial\; font-size:18px">We look forward to sharing in th</span><span style="color:rgb(85\, 85\, 85)\; font-family:arial\; font-size:18px">e experience!</span></p>\n
LOCATION:Dry Land Distillers 519 Main Street Longmont\, CO 80501
UID:e.3083.10283
SEQUENCE:3
DTSTAMP:20260421T033901Z
URL:https://members.longmontchamber.org/events/details/music-series-jazz-night-with-vic-dillahay-friends-12-03-2025-10283
END:VEVENT

END:VCALENDAR
