BEGIN:VCALENDAR
VERSION:2.0
PRODID:-//ChamberMaster//Event Calendar 2.0//EN
METHOD:PUBLISH
X-PUBLISHED-TTL:P3D
REFRESH-INTERVAL:P3D
CALSCALE:GREGORIAN
BEGIN:VEVENT
DTSTART:20251011T150000Z
DTEND:20251011T180000Z
X-MICROSOFT-CDO-ALLDAYEVENT:FALSE
SUMMARY:Mustang Market (Artisan and Farmer's Market)
DESCRIPTION:EVENT DETAILS\n\nDate: October 11\n\nTime: 9:00 a.m. - 12:00 p.m.\n\nLocation:  Dawson School  |  Quad/Green\n\n \n\nCALLING ALL VENDORS\n\n\nBe part of the Dawson community's first-ever Mustang Market. \n\nEach vendor may bring one tent or display setup within a 10'x10' space. You will be notified if your application is accepted. You will receive a link to submit the $100 application fee upon acceptance. Mustang Market Vendor Application\n\n\n\nTHE MUSTANG MARKET IS OPEN TO THE PUBLIC!\n\nJoin us for Dawson's Mustang Market\, open to the public from 9:00 a.m. to 12:00 p.m.!  Enjoy local vendors\, food\, and fun for all ages.
X-ALT-DESC;FMTTYPE=text/html:<div><strong><u>EVENT DETAILS</u></strong></div>\n\n<div><strong>Date</strong>: October 11<br />\n<strong>Time:</strong>&nbsp\;9:00 a.m. - 12:00 p.m.<br />\n<strong>Location:&nbsp\;</strong>&nbsp\;Dawson School&nbsp\; |&nbsp\; Quad/Green<br />\n&nbsp\;</div>\n\n<div><u><strong>CALLING ALL VENDORS</strong></u></div>\n\n<div style="text-align:center">\n<div style="text-align:left">Be part of the Dawson community&#39\;s first-ever Mustang Market.&nbsp\;</div>\n\n<div style="text-align:left">Each vendor may bring one tent or display setup within a 10&#39\;x10&#39\; space. You will be notified if your application is accepted. You will receive a link to submit the $100 application fee upon acceptance.<a href="https://docs.google.com/forms/d/e/1FAIpQLSfgbkOOYOA14W1uzxTUfcgHIGPuCTcTV9iGHeILU2I40xxloQ/viewform">&nbsp\;</a><a href="https://docs.google.com/forms/d/e/1FAIpQLSfgbkOOYOA14W1uzxTUfcgHIGPuCTcTV9iGHeILU2I40xxloQ/viewform?usp=sharing&amp\;ouid=108134877846270482198" rel="noopener" style="color: rgb(0\, 51\, 160)\; text-decoration-color: currentcolor\; transition: color 0.25s\, background 0.25s\, background-color 0.25s\, border\, 0.25s\, text-decoration-color 0.25s\;" target="_blank">Mustang Market Vendor Application</a></div>\n\n<div style="text-align:left"><br />\n<strong><u>THE MUSTANG MARKET IS OPEN TO THE PUBLIC!</u></strong><br />\nJoin us for Dawson&rsquo\;s Mustang Market\, open to the public from 9:00 a.m. to 12:00 p.m.!&nbsp\; <strong>Enjoy local vendors\, food\, and fun for all ages.&nbsp\;</strong></div>\n</div>\n
LOCATION:Dawson School
UID:e.3083.13984
SEQUENCE:3
DTSTAMP:20260421T052755Z
URL:https://members.longmontchamber.org/events/details/mustang-market-artisan-and-farmer-s-market-13984
END:VEVENT

END:VCALENDAR
