BEGIN:VCALENDAR
VERSION:2.0
PRODID:-//ChamberMaster//Event Calendar 2.0//EN
METHOD:PUBLISH
X-PUBLISHED-TTL:P3D
REFRESH-INTERVAL:P3D
CALSCALE:GREGORIAN
BEGIN:VEVENT
DTSTART:20240809T143000Z
DTEND:20240809T220000Z
X-MICROSOFT-CDO-ALLDAYEVENT:FALSE
SUMMARY:National Coworking Day at the Times Collaborative
DESCRIPTION:Come to the Times Collaborative for a day of coworking and camaraderie on National Coworking Day.\n\nWe're opening up to FREE coworking and FREE meeting rooms on Friday 9th August at our beautiful coworking and event space in Downtown Longmont!\n\nSet up your base right here downtown amongst the vibrant shops and restaurants of Longmont.\n\nExperience the vintage ambiance and full coworking support and camaraderie that make the Times Collaborative such a special community:\n\n\n	Find your ideal work environment - relaxed sofas\, hanging chairs or desk seating areas - and bring a friend to work with!\n	Coffee\, cold beverages and snacks always available\n	Take advantage of bookable meeting/conference rooms for up to 8 people available for free on August 9th (must book - 45 minute sessions available)\n	Experience Member Mixer Lunch Hour 11 - 12 enjoy bites from Times Collaborative member chefs based out of our onsite commercial kitchen and mingle with other community members\n	Participate in our drawing to win free drop in days and meeting room bookings\n	Discounted after work libations at the Times Collaborative's beverage partner Dry Land Distillers\n	Discover our historic building with tours all day\n\n\nBook your coworking space in advance or on the day.\n\nMeeting rooms subject to availability - book early via info@thetimesco.com to guarantee your spot.
X-ALT-DESC;FMTTYPE=text/html:<p>Come to the Times Collaborative for a day of coworking and camaraderie on National Coworking Day.</p>\n\n<p>We&rsquo\;re opening up to FREE coworking and FREE meeting rooms on Friday 9th August at our beautiful coworking and event space in Downtown Longmont!</p>\n\n<p>Set up your base right here downtown amongst the vibrant shops and restaurants of Longmont.</p>\n\n<p>Experience the vintage ambiance and full coworking support and camaraderie that make the Times Collaborative such a special community:</p>\n\n<ul>\n	<li>Find your ideal work environment - relaxed sofas\, hanging chairs or desk seating areas - and bring a friend to work with!</li>\n	<li>Coffee\, cold beverages and snacks always available</li>\n	<li>Take advantage of bookable meeting/conference rooms for up to 8 people available for free on August 9th (must book - 45 minute sessions available)</li>\n	<li>Experience Member Mixer Lunch Hour 11 - 12 enjoy bites from Times Collaborative member chefs based out of our onsite commercial kitchen and mingle with other community members</li>\n	<li>Participate in our drawing to win free drop in days and meeting room bookings</li>\n	<li>Discounted after work libations at the Times Collaborative&rsquo\;s beverage partner Dry Land Distillers</li>\n	<li>Discover our historic building with tours all day</li>\n</ul>\n\n<p>Book your coworking space in advance or on the day.</p>\n\n<p>Meeting rooms subject to availability - book early via <a href="mailto:info@thetimesco.com">info@thetimesco.com</a> to guarantee your spot.&nbsp\;</p>\n
LOCATION:338 Main Street\, Longmont
UID:e.3083.10180
SEQUENCE:3
DTSTAMP:20260422T044044Z
URL:https://members.longmontchamber.org/events/details/national-coworking-day-at-the-times-collaborative-10180
END:VEVENT

END:VCALENDAR
