BEGIN:VCALENDAR
VERSION:2.0
PRODID:-//ChamberMaster//Event Calendar 2.0//EN
METHOD:PUBLISH
X-PUBLISHED-TTL:P3D
REFRESH-INTERVAL:P3D
CALSCALE:GREGORIAN
BEGIN:VEVENT
DTSTART:20230218T200000Z
DTEND:20230218T230000Z
X-MICROSOFT-CDO-ALLDAYEVENT:FALSE
SUMMARY:Nature Journaling Adventure
DESCRIPTION:Enjoy a brief nature walk guided by Coy Ink at Roosevelt Park followed by coffee and a cozy fireplace at MECO Coffee shop where we'll draw what we saw in the park in our sketchbooks. Supplies included.\n\n\n\nMeet in front of the St Vrain Memorial Building at Roosevelt Park.
X-ALT-DESC;FMTTYPE=text/html:Enjoy a brief nature walk guided by Coy Ink at Roosevelt Park followed by coffee and a cozy fireplace at MECO Coffee shop where we&rsquo\;ll draw what we saw in the park in our sketchbooks. Supplies included.<br />\n<br />\nMeet in front of the St Vrain Memorial Building at Roosevelt Park.
LOCATION:City of Longmont St Vrain Memorial Building 700 Longs Peak Ave\, Longmont\, CO 80501
UID:e.3083.9627
SEQUENCE:3
DTSTAMP:20260423T083937Z
URL:https://members.longmontchamber.org/events/details/nature-journaling-adventure-9627
END:VEVENT

END:VCALENDAR
