BEGIN:VCALENDAR
VERSION:2.0
PRODID:-//ChamberMaster//Event Calendar 2.0//EN
METHOD:PUBLISH
X-PUBLISHED-TTL:P3D
REFRESH-INTERVAL:P3D
CALSCALE:GREGORIAN
BEGIN:VEVENT
DTSTART:20220613T210000Z
DTEND:20220614T000000Z
X-MICROSOFT-CDO-ALLDAYEVENT:FALSE
SUMMARY:Networking Event: Chip Off the Old Blockbuster at Clovis Point Apartments
DESCRIPTION:Join the Longmont Chamber and Clovis Point Apartments for our biggest networking event of the year! Chip Off the Old Blockbuster is a Hollywood-themed summer celebration for all of our members\, as well as the reception for our annual Commerce Cup golf tournament the same morning. The event will be held outside on the BBQ patio and pool deck at the brand new Clovis Point Apartments complex.\n\n\n\nWhat can you expect at this event? Great food\, drinks\, a silent auction\, lots of fun\, and the opportunity to connect with other Longmont Chamber members at one of the most scenic venues in town!\n\n\n\nThis is a free event and all members are invited! The Longmont Chamber golf tournament will take place the morning of the networking event. Golfers and tournament sponsors will have access to an exclusive lounge upstairs in the Clovis Point clubhouse.
X-ALT-DESC;FMTTYPE=text/html:Join the Longmont Chamber and Clovis Point Apartments for our biggest networking event of the year! Chip Off the Old Blockbuster is a Hollywood-themed summer celebration for all of our members\, as well as the reception for our annual Commerce Cup golf tournament the same morning. The event will be held outside on the BBQ patio and pool deck at the brand new Clovis Point Apartments complex.<br />\n<br />\nWhat can you expect at this event? Great food\, drinks\, a silent auction\, lots of fun\, and the opportunity to connect with other Longmont Chamber members at one of the most scenic venues in town!<br />\n<br />\nThis is a free event and all members are invited! The Longmont Chamber golf tournament will take place the morning of the networking event. Golfers and tournament sponsors will have access to an exclusive lounge upstairs in the Clovis Point clubhouse.
LOCATION:Clovis Point Apartments 1855 Lefthand Creek Ln Longmont\, CO 80501
UID:e.3083.8688
SEQUENCE:3
DTSTAMP:20260423T204713Z
URL:https://members.longmontchamber.org/events/details/networking-event-chip-off-the-old-blockbuster-at-clovis-point-apartments-8688
END:VEVENT

END:VCALENDAR
