BEGIN:VCALENDAR
VERSION:2.0
PRODID:-//ChamberMaster//Event Calendar 2.0//EN
METHOD:PUBLISH
X-PUBLISHED-TTL:P3D
REFRESH-INTERVAL:P3D
CALSCALE:GREGORIAN
BEGIN:VEVENT
DTSTART:20250325T150000Z
DTEND:20250325T160000Z
X-MICROSOFT-CDO-ALLDAYEVENT:FALSE
SUMMARY:NEW! Member Masterclass: Commercial Leasing 101
DESCRIPTION:Commercial Leasing 101: What Every Business Owner Should Know\n\nPresented by: Market Real Estate\n\nSpeaker: Annie Larner\, Broker\n\nAbout Member Masterclass\n\nThe Member Masterclass series is an exclusive opportunity for Longmont Area Chamber of Commerce members to gain insights and practical knowledge from fellow members who are experts in their fields. These monthly sessions are designed to foster connections\, expand professional expertise\, and provide actionable takeaways that members can apply to their businesses immediately.\n\nEach session features a 30-minute presentation by a Chamber member\, followed by an interactive Q&A and networking opportunity.\n\nThis Month's Topic: Understanding Commercial Leasing\n\nIs your business ready for its first (or next) commercial space? Whether you're searching for an office\, retail storefront\, or warehouse\, navigating the complexities of commercial leasing can feel overwhelming. From negotiating lease terms to understanding hidden costs\, knowing what to expect before you sign on the dotted line can save you time\, money\, and stress.\n\nJoin us for an informative session on Commercial Leasing 101\, where you'll:\n\n\n	Learn how to budget for your lease beyond just rent\n	Understand what triple nets (NNN) really mean and how they impact your expenses\n	Discover common lease pitfalls and how to negotiate better terms\n	Get practical tips on becoming an attractive tenant and securing the right space\n	Explore when it makes sense to lease vs. buy a commercial property\n\n\nMeet the Speaker\n\nAnnie Larner | Broker\, Market Real Estate\n\nInstagram.com/annielarner\n\nMarketRealEstate.com\n\nWith years of experience in commercial real estate\, Annie Larner is a trusted advocate for business owners looking to lease\, buy\, or invest in commercial spaces. She specializes in simplifying the process for tenants\, landlords\, buyers\, and sellers cutting through the complexity and bringing a bit of fun to the journey. Whether she's helping a startup find its first office or guiding an established business through a strategic expansion\, Annie ensures her clients are well-prepared and confident in their real estate decisions.\n\nThank You to Our Sponsor\n\nFNBO\n\nThe Member Masterclass series is made possible through the generous support of FNBO\, a long-time partner of the Longmont Area Chamber of Commerce. FNBO is committed to fostering financial well-being and supporting businesses in our community. With a 165-year legacy and a mission rooted in integrity\, respect\, and passion\, FNBO invests in key areas such as affordable housing\, workforce development\, and financial literacy. Their ongoing commitment ensures that valuable educational programs like this continue to serve and empower our Chamber members.
X-ALT-DESC;FMTTYPE=text/html:<h3 data-end="71" data-start="0"><strong data-end="69" data-start="4">Commercial Leasing 101: What Every Business Owner Should Know</strong></h3>\n\n<p data-end="146" data-start="72"><strong data-end="89" data-start="72">Presented by:</strong> <a href="https://marketrealestate.com/">Market Real Estate</a><br data-end="111" data-start="108" />\n<strong data-end="123" data-start="111">Speaker:</strong> Annie Larner\, Broker</p>\n\n<h3 data-end="182" data-start="148"><strong data-end="180" data-start="152">About Member Masterclass</strong></h3>\n\n<p data-end="565" data-start="183">The <strong data-end="216" data-start="187">Member Masterclass series</strong> is an exclusive opportunity for Longmont Area Chamber of Commerce members to gain insights and practical knowledge from fellow members who are experts in their fields. These monthly sessions are designed to foster connections\, expand professional expertise\, and provide actionable takeaways that members can apply to their businesses immediately.</p>\n\n<p data-end="703" data-start="567">Each session features a <strong data-end="637" data-start="591">30-minute presentation by a Chamber member</strong>\, followed by an <strong data-end="700" data-start="654">interactive Q&amp\;A and networking opportunity</strong>.</p>\n\n<h3 data-end="767" data-start="705"><strong data-end="765" data-start="709">This Month&rsquo\;s Topic: Understanding Commercial Leasing</strong></h3>\n\n<p data-end="1136" data-start="768">Is your business ready for its first (or next) commercial space? Whether you&rsquo\;re searching for an office\, retail storefront\, or warehouse\, navigating the complexities of commercial leasing can feel overwhelming. From negotiating lease terms to understanding hidden costs\, knowing what to expect before you sign on the dotted line can save you time\, money\, and stress.</p>\n\n<p data-end="1219" data-start="1138"><strong data-end="1217" data-start="1138">Join us for an informative session on Commercial Leasing 101\, where you&rsquo\;ll:</strong></p>\n\n<ul data-end="1584" data-start="1220">\n	<li data-end="1275" data-start="1220">Learn how to budget for your lease beyond just rent</li>\n	<li data-end="1359" data-start="1276">Understand what triple nets (NNN) really mean and how they impact your expenses</li>\n	<li data-end="1428" data-start="1360">Discover common lease pitfalls and how to negotiate better terms</li>\n	<li data-end="1513" data-start="1429">Get practical tips on becoming an attractive tenant and securing the right space</li>\n	<li data-end="1584" data-start="1514">Explore when it makes sense to lease vs. buy a commercial property</li>\n</ul>\n\n<h3 data-end="1612" data-start="1586"><strong data-end="1610" data-start="1590">Meet the Speaker</strong></h3>\n\n<p data-end="1780" data-start="1613"><strong data-end="1658" data-start="1613">Annie Larner | Broker\, Market Real Estate</strong><br data-end="1661" data-start="1658" />\n<a data-end="1723" data-start="1661" href="https://instagram.com/annielarner" rel="noopener" target="_new">Instagram.com/annielarner</a><br data-end="1726" data-start="1723" />\n<a data-end="1778" data-start="1726" href="https://marketrealestate.com" rel="noopener" target="_new">MarketRealEstate.com</a></p>\n\n<p data-end="2315" data-start="1782">With years of experience in commercial real estate\, Annie Larner is a trusted advocate for business owners looking to lease\, buy\, or invest in commercial spaces. She specializes in simplifying the process for tenants\, landlords\, buyers\, and sellers&mdash\;cutting through the complexity and bringing a bit of fun to the journey. Whether she&rsquo\;s helping a startup find its first office or guiding an established business through a strategic expansion\, Annie ensures her clients are well-prepared and confident in their real estate decisions.</p>\n\n<h3 data-end="2351" data-start="2317"><strong data-end="2349" data-start="2321">Thank You to Our Sponsor</strong></h3>\n\n<p data-end="2925" data-start="2352"><strong data-end="2360" data-start="2352">FNBO</strong><br data-end="2363" data-start="2360" />\nThe <strong data-end="2396" data-start="2367">Member Masterclass series</strong> is made possible through the generous support of <strong data-end="2454" data-start="2446">FNBO</strong>\, a long-time partner of the Longmont Area Chamber of Commerce. FNBO is committed to fostering financial well-being and supporting businesses in our community. With a 165-year legacy and a mission rooted in integrity\, respect\, and passion\, FNBO invests in key areas such as affordable housing\, workforce development\, and financial literacy. Their ongoing commitment ensures that valuable educational programs like this continue to serve and empower our Chamber members.</p>\n
LOCATION:Longmont Chamber Conference Room
UID:e.3083.12143
SEQUENCE:3
DTSTAMP:20260421T160147Z
URL:https://members.longmontchamber.org/events/details/new-member-masterclass-commercial-leasing-101-12143
END:VEVENT

END:VCALENDAR
