BEGIN:VCALENDAR
VERSION:2.0
PRODID:-//ChamberMaster//Event Calendar 2.0//EN
METHOD:PUBLISH
X-PUBLISHED-TTL:P3D
REFRESH-INTERVAL:P3D
CALSCALE:GREGORIAN
BEGIN:VEVENT
DTSTART:20250520T150000Z
DTEND:20250520T160000Z
X-MICROSOFT-CDO-ALLDAYEVENT:FALSE
SUMMARY:NEW! Member Masterclass - Simplified Security: No-Nonsense Guide for Business Owners
DESCRIPTION:Member Masterclass\n\nSimplified Security: A No-Nonsense Guide for Business Owners\n\n\nAbout Member Masterclass\n\nThe Member Masterclass series is an exclusive opportunity for Longmont Area Chamber of Commerce members to gain insights and practical knowledge from fellow members who are experts in their fields. These monthly sessions foster connections\, expand professional know-how\, and provide actionable takeaways that members can apply to their businesses immediately.\n\nEach session features a 30-minute presentation followed by interactive Q&A and networking.\n\n\nThis Month's Topic:\n\nSimplified Security: A No-Nonsense Guide for Business Owners\n\nIs Your MFA Keeping You Safe? How to Protect Your Accounts in 2025\n\nMulti-Factor Authentication (MFA) is essential to protecting your digital identity but not all MFA is created equal. The FBI and CISA are now advising against SMS-based MFA due to serious security vulnerabilities.\n\nJoin us for this session where we'll simplify the latest cybersecurity guidance and walk through steps you can take now to protect your accounts and your business.\n\nYou'll learn:\n\n  Why SMS-based MFA is being phased out\n\n  Real-world risks of relying on text message authentication\n\n  FBI- and CISA-recommended alternatives\n\n  How to start migrating your accounts without overwhelm\n\n\nMeet the Speaker\n\nSid Payne\, Founder\, ViaTek\n\nWith over two decades of experience in cybersecurity and managed tech services\, Sid Payne built ViaTek around the philosophy of People-First IT. He's helped hundreds of Colorado businesses stay secure while keeping tech conversations human. Sid is known for his plain-language\, no-fluff approach making cybersecurity make sense for small business owners.\n\n\nThank You to Our Sponsor\n\nFNBO\n\n\n\nThe Member Masterclass series is made possible through the generous support of FNBO\, a long-time Chamber partner. FNBO is committed to fostering financial well-being and strengthening our business community through initiatives in workforce development\, financial literacy\, and economic growth.
X-ALT-DESC;FMTTYPE=text/html:<div class="OutlineElement Ltr SCXW174815174 BCX0" style="-webkit-user-drag: none\; -webkit-tap-highlight-color: transparent\; margin: 0px\; padding: 0px\; user-select: text\; clear: both\; cursor: text\; overflow: visible\; position: relative\; direction: ltr\; color: rgb(0\, 0\, 0)\; font-family: &quot\;Segoe UI&quot\;\, &quot\;Segoe UI Web&quot\;\, Arial\, Verdana\, sans-serif\; font-size: 12px\;">\n<div class="OutlineElement Ltr SCXW174815174 BCX0" style="-webkit-user-drag: none\; -webkit-tap-highlight-color: transparent\; margin: 0px\; padding: 0px\; user-select: text\; clear: both\; cursor: text\; overflow: visible\; position: relative\; direction: ltr\; color: rgb(0\, 0\, 0)\; font-family: &quot\;Segoe UI&quot\;\, &quot\;Segoe UI Web&quot\;\, Arial\, Verdana\, sans-serif\; font-size: 12px\;">\n<div class="OutlineElement Ltr SCXW26742188 BCX8" style="-webkit-user-drag: none\; -webkit-tap-highlight-color: transparent\; margin: 0px\; padding: 0px\; user-select: text\; clear: both\; cursor: text\; overflow: visible\; position: relative\; direction: ltr\; color: rgb(0\, 0\, 0)\; font-family: &quot\;Segoe UI&quot\;\, &quot\;Segoe UI Web&quot\;\, Arial\, Verdana\, sans-serif\; font-size: 12px\;">\n<h3 data-end="169" data-start="141"><span style="font-size:20px\;"><strong data-end="167" data-start="145">Member Masterclass</strong></span></h3>\n\n<p data-end="247" data-start="170"><span style="font-size:20px\;"><strong data-end="245" data-start="170">Simplified Security: A No-Nonsense Guide for Business Owners</strong></span></p>\n\n<hr data-end="454" data-start="451" />\n<h3 data-end="490" data-start="456"><span style="font-size:20px\;"><strong data-end="488" data-start="460">About Member Masterclass</strong></span></h3>\n\n<p data-end="856" data-start="491"><span style="font-size:16px\;">The <strong data-end="517" data-start="495">Member Masterclass</strong> series is an exclusive opportunity for Longmont Area Chamber of Commerce members to gain insights and practical knowledge from fellow members who are experts in their fields. These monthly sessions foster connections\, expand professional know-how\, and provide actionable takeaways that members can apply to their businesses immediately.</span></p>\n\n<p data-end="948" data-start="858"><span style="font-size:16px\;">Each session features a 30-minute presentation followed by interactive Q&amp\;A and networking.</span></p>\n\n<hr data-end="953" data-start="950" />\n<h3 data-end="984" data-start="955"><span style="font-size:20px\;"><strong data-end="982" data-start="959">This Month&rsquo\;s Topic:</strong></span></h3>\n\n<h4 data-end="1067" data-start="985"><span style="font-size:16px\;"><strong data-end="1065" data-start="990">Simplified Security: A No-Nonsense Guide for Business Owners</strong></span></h4>\n\n<p data-end="1138" data-start="1068"><span style="font-size:16px\;"><strong data-end="1138" data-start="1068">Is Your MFA Keeping You Safe? How to Protect Your Accounts in 2025</strong></span></p>\n\n<p data-end="1355" data-start="1140"><span style="font-size:16px\;">Multi-Factor Authentication (MFA) is essential to protecting your digital identity&mdash\;but not all MFA is created equal. The FBI and CISA are now advising against SMS-based MFA due to serious security vulnerabilities.</span></p>\n\n<p data-end="1520" data-start="1357"><span style="font-size:16px\;">Join us for this session where we&rsquo\;ll simplify the latest cybersecurity guidance and walk through steps you can take now to protect your accounts and your business.</span></p>\n\n<p data-end="1746" data-start="1522"><span style="font-size:16px\;"><strong data-end="1539" data-start="1522">You&#39\;ll learn:</strong><br data-end="1542" data-start="1539" />\n&#10004\; Why SMS-based MFA is being phased out<br data-end="1584" data-start="1581" />\n&#10004\; Real-world risks of relying on text message authentication<br data-end="1647" data-start="1644" />\n&#10004\; FBI- and CISA-recommended alternatives<br data-end="1690" data-start="1687" />\n&#10004\; How to start migrating your accounts without overwhelm</span></p>\n\n<hr data-end="1751" data-start="1748" />\n<h3 data-end="1779" data-start="1753"><span style="font-size:20px\;"><strong data-end="1777" data-start="1757">Meet the Speaker</strong></span></h3>\n\n<p data-end="2171" data-start="1780"><span style="font-size:16px\;"><strong data-end="1810" data-start="1780">Sid Payne\, Founder\, ViaTek</strong><br data-end="1813" data-start="1810" />\nWith over two decades of experience in cybersecurity and managed tech services\, Sid Payne built ViaTek around the philosophy of <strong data-end="1960" data-start="1941">People-First IT</strong>. He&rsquo\;s helped hundreds of Colorado businesses stay secure while keeping tech conversations human. Sid is known for his plain-language\, no-fluff approach&mdash\;making cybersecurity make sense for small business owners.</span></p>\n\n<hr data-end="2176" data-start="2173" />\n<h3 data-end="2212" data-start="2178"><span style="font-size:20px\;"><strong data-end="2210" data-start="2182">Thank You to Our Sponsor</strong></span></h3>\n\n<p data-end="2521" data-start="2213"><span style="font-size:16px\;"><strong data-end="2221" data-start="2213">FNBO</strong><br />\n<br data-end="2224" data-start="2221" />\nThe Member Masterclass series is made possible through the generous support of <strong data-end="2311" data-start="2303">FNBO</strong>\, a long-time Chamber partner. FNBO is committed to fostering financial well-being and strengthening our business community through initiatives in workforce development\, financial literacy\, and economic growth.</span></p>\n</div>\n</div>\n</div>\n
LOCATION:Longmont Chamber Conference Room
UID:e.3083.13317
SEQUENCE:3
DTSTAMP:20260421T130314Z
URL:https://members.longmontchamber.org/events/details/new-member-masterclass-simplified-security-no-nonsense-guide-for-business-owners-13317
END:VEVENT

END:VCALENDAR
