BEGIN:VCALENDAR
VERSION:2.0
PRODID:-//ChamberMaster//Event Calendar 2.0//EN
METHOD:PUBLISH
X-PUBLISHED-TTL:P3D
REFRESH-INTERVAL:P3D
CALSCALE:GREGORIAN
BEGIN:VEVENT
DTSTART:20240422T220000Z
DTEND:20240423T000000Z
X-MICROSOFT-CDO-ALLDAYEVENT:FALSE
SUMMARY:New Member Mixer
DESCRIPTION:Welcome new Longmont Area Chamber of Commerce members! Come connect with us and mingle with other new members who have joined in the last year. Meet some of the committees and program leaders at the Longmont chamber and learn more about the benefits of our chamber face to face at this open house event. New Members only - by invite.
X-ALT-DESC;FMTTYPE=text/html:Welcome new Longmont Area Chamber of Commerce members! Come connect with us and mingle with other new members who have joined in the last year. Meet some of the committees and program leaders at the Longmont chamber and learn more about the benefits of our chamber face to face at this open house event. New Members only - by invite.
LOCATION:The Bearded Brewer 1425 S. Airport Road Proudly sponsored by Pinnacol Assurance
UID:e.3083.10080
SEQUENCE:3
DTSTAMP:20260422T104815Z
URL:https://members.longmontchamber.org/events/details/new-member-mixer-10080
END:VEVENT

END:VCALENDAR
