BEGIN:VCALENDAR
VERSION:2.0
PRODID:-//ChamberMaster//Event Calendar 2.0//EN
METHOD:PUBLISH
X-PUBLISHED-TTL:P3D
REFRESH-INTERVAL:P3D
CALSCALE:GREGORIAN
BEGIN:VEVENT
DTSTART:20250428T220000Z
DTEND:20250429T000000Z
X-MICROSOFT-CDO-ALLDAYEVENT:FALSE
SUMMARY:New Member Mixer
DESCRIPTION:Welcome new Members of the Longmont Area Chamber of Commerce! We want to celebrate YOU! Come connect with us and mingle with other new members who have joined the Chamber in the last year. Say hello to the Staff and the Board of Directors of the Chamber.  Meet your committee\, networking group and program leaders at the Longmont Chamber and learn more about the benefits that you have within your Chamber in this fun\, interactive face-to-face event. New Members only - by invite.
X-ALT-DESC;FMTTYPE=text/html:Welcome new Members of the Longmont Area Chamber of Commerce! We want to celebrate YOU! Come connect with us and mingle with other new members who have joined the Chamber in the last year. Say hello to the Staff and the Board of Directors of the Chamber.&nbsp\; Meet your committee\, networking group and program leaders at the Longmont Chamber and learn more about the benefits that you have within your Chamber in this fun\, interactive face-to-face event. New Members only - by invite.
LOCATION:The Elks Lodge 306 Coffman Street Proudly sponsored by Pinnacol Assurance
UID:e.3083.13286
SEQUENCE:3
DTSTAMP:20260421T142631Z
URL:https://members.longmontchamber.org/events/details/new-member-mixer-13286
END:VEVENT

END:VCALENDAR
