BEGIN:VCALENDAR
VERSION:2.0
PRODID:-//ChamberMaster//Event Calendar 2.0//EN
METHOD:PUBLISH
X-PUBLISHED-TTL:P3D
REFRESH-INTERVAL:P3D
CALSCALE:GREGORIAN
BEGIN:VEVENT
DTSTART:20200128T233000Z
DTEND:20200129T013000Z
X-MICROSOFT-CDO-ALLDAYEVENT:FALSE
SUMMARY:New Member Mixer
DESCRIPTION:Welcome new Longmont Area Chamber of Commerce members! Come celebrate with us and mingle with other new members who have joined in the last year. Meet some of the committees and learn more about the benefits of our chamber face to face at this open house event.
X-ALT-DESC;FMTTYPE=text/html:Welcome new Longmont Area Chamber of Commerce members! Come celebrate with us and mingle with other new members who have joined in the last year. Meet some of the committees and learn more about the benefits of our chamber face to face at this open house event.
LOCATION:The Oak Room at Oskar Blues (Located on the North West side of the Oskar Blues site) ** NOT the Oskar Blues Restaurant on Hover & 119** The Oak Room 1800 Pike Rd Longmont\, CO 80501
UID:e.3083.7368
SEQUENCE:3
DTSTAMP:20260425T201250Z
URL:https://members.longmontchamber.org/events/details/new-member-mixer-7368
END:VEVENT

END:VCALENDAR
