BEGIN:VCALENDAR
VERSION:2.0
PRODID:-//ChamberMaster//Event Calendar 2.0//EN
METHOD:PUBLISH
X-PUBLISHED-TTL:P3D
REFRESH-INTERVAL:P3D
CALSCALE:GREGORIAN
BEGIN:VEVENT
DTSTART:20210909T220000Z
DTEND:20210909T230000Z
X-MICROSOFT-CDO-ALLDAYEVENT:FALSE
SUMMARY:New Member Mixer
DESCRIPTION:Welcome new Longmont Area Chamber of Commerce members! Come connect with us and mingle with other new members who have joined in the last year. Meet some of the committees and program leaders at the Longmont chamber and learn more about the benefits of our chamber face to face at this open house event.\n\n\n\nHigh Country Bank is our host and there will be a Business After Hours directly following the New Member Mixer\, new members are welcome to attend both\, but the mixer will provide a smaller setting with all new members before the larger networking event.\n\n\n\nPer the Boulder County Health Order issued September 3rd\, we are requiring that all individuals wear a mask while inside at this event. As the event is held primarily outside\, we are not requiring masks be worn at all times but strongly encourage individuals to wear them if they are unable to maintain a 6' social distance from other guests.
X-ALT-DESC;FMTTYPE=text/html:Welcome new Longmont Area Chamber of Commerce members! Come connect with us and mingle with other new members who have joined in the last year. Meet some of the committees and program leaders at the Longmont chamber and learn more about the benefits of our chamber face to face at this open house event.<br />\n<br />\nHigh Country Bank is our host and there will be a Business After Hours directly following the New Member Mixer\, new members are welcome to attend both\, but the mixer will provide a smaller setting with all new members before the larger networking event.<br />\n<br />\n<strong>Per the Boulder County Health Order issued September 3rd\, we are requiring that all individuals wear a mask while inside at this event. As the event is held primarily outside\, we are not requiring masks be worn at all times but strongly encourage individuals to wear them if they are unable to maintain a 6&#39\; social distance from other guests.</strong>
LOCATION:Wibby Brewing 209 Emery St\, Longmont\, CO 80501 Proudly hosted by High Country Bank
UID:e.3083.8474
SEQUENCE:3
DTSTAMP:20260424T110002Z
URL:https://members.longmontchamber.org/events/details/new-member-mixer-8474
END:VEVENT

END:VCALENDAR
