BEGIN:VCALENDAR
VERSION:2.0
PRODID:-//ChamberMaster//Event Calendar 2.0//EN
METHOD:PUBLISH
X-PUBLISHED-TTL:P3D
REFRESH-INTERVAL:P3D
CALSCALE:GREGORIAN
BEGIN:VEVENT
DTSTART:20200305T003000Z
DTEND:20200305T013000Z
X-MICROSOFT-CDO-ALLDAYEVENT:FALSE
SUMMARY:Nexus Activity YP: Crackpots
DESCRIPTION:Join us for a Nexus YP Activity at Crackpots! We'll have a room just for our group and you can choose from a variety of items to paint\, ranging from $7-$20. Come see familiar faces\, meet new friends and paint with Nexus!\n\n\n\nFree snacks will be provided by FirstBank.
X-ALT-DESC;FMTTYPE=text/html:Join us for a Nexus YP Activity at Crackpots! We&#39\;ll have a room just for our group and you can choose from a variety of items to paint\, ranging from $7-$20. Come see familiar faces\, meet new friends and paint with Nexus!<br />\n<br />\nFree snacks will be provided by FirstBank.
LOCATION:Crackpots 505 Main St. Longmont\, CO 80501
UID:e.3083.7559
SEQUENCE:3
DTSTAMP:20260425T165246Z
URL:https://members.longmontchamber.org/events/details/nexus-activity-yp-crackpots-7559
END:VEVENT

END:VCALENDAR
