BEGIN:VCALENDAR
VERSION:2.0
PRODID:-//ChamberMaster//Event Calendar 2.0//EN
METHOD:PUBLISH
X-PUBLISHED-TTL:P3D
REFRESH-INTERVAL:P3D
CALSCALE:GREGORIAN
BEGIN:VEVENT
DTSTART:20210331T220000Z
DTEND:20210331T230000Z
X-MICROSOFT-CDO-ALLDAYEVENT:FALSE
SUMMARY:Nexus EDU: Adrian Chenault
DESCRIPTION:This EDU is hosted by Nexus\, but any member can join! We are grateful to have some time with Contact Mapping CEO\, Adrian Chenault. Adrian will talk with the group about developing your career in an online world.\n\n	Generate better online meetings\, for your sake and others! \n	Create community  - simple hacks to developing better connection.\n	Reach up for mentorship - how to strengthen your network online.
X-ALT-DESC;FMTTYPE=text/html:This EDU is hosted by Nexus\, but any member can join! We are grateful to have some time with Contact Mapping CEO\, Adrian Chenault. Adrian will talk with the group about developing your career in an online world.\n<ol>\n	<li>Generate better online meetings\, for your sake and others!&nbsp\;</li>\n	<li>Create community&nbsp\; - simple hacks to developing better connection.</li>\n	<li>Reach up for mentorship - how to strengthen your network online.</li>\n</ol>\n
LOCATION:Register for Zoom meeting info
UID:e.3083.7629
SEQUENCE:3
DTSTAMP:20260424T215037Z
URL:https://members.longmontchamber.org/events/details/nexus-edu-adrian-chenault-7629
END:VEVENT

END:VCALENDAR
