BEGIN:VCALENDAR
VERSION:2.0
PRODID:-//ChamberMaster//Event Calendar 2.0//EN
METHOD:PUBLISH
X-PUBLISHED-TTL:P3D
REFRESH-INTERVAL:P3D
CALSCALE:GREGORIAN
BEGIN:VEVENT
DTSTART:20220519T230000Z
DTEND:20220520T010000Z
X-MICROSOFT-CDO-ALLDAYEVENT:FALSE
SUMMARY:Nexus EDU | Women's Self Defense Class
DESCRIPTION:This 2-hour class will focus on providing options to empower women and increase personal safety. We aim to create a safe space to practice both verbal and physical skills for use during triggering or potentially dangerous situations. Skills learned in this class are meant to increase situational awareness and reduce the body's natural "freeze" response during stress or crisis.
X-ALT-DESC;FMTTYPE=text/html:<div aria-label="Message body" class="fEEQbbifEC8quzJXH0sd BeMjeoOEu2wdPEQukh37 TiApUvaZOn0aLkSUHRf7 allowTextSelection" role="region" style="margin: 12px 16px 0px 52px\; padding: 0px 0px 2px\; border: 0px\; font-style: inherit\; font-variant: inherit\; font-stretch: inherit\; font-size: 15px\; line-height: inherit\; font-family: inherit\; vertical-align: baseline\; color: var(--neutralDark)\; user-select: text\; cursor: auto\; overflow-y: auto\; outline: 0px\;" tabindex="-1">\n<div style="margin: 0px\; padding: 0px\; border: 0px\; font: inherit\; vertical-align: baseline\; color: inherit\;">\n<div style="margin: 0px\; padding: 0px\; border: 0px\; font: inherit\; vertical-align: baseline\; color: inherit\;">\n<div style="margin: 0px\; padding: 0px\; border: 0px\; font: inherit\; vertical-align: baseline\; color: inherit\;">\n<div dir="ltr" style="margin: 0px\; padding: 0px\; border: 0px\; font: inherit\; vertical-align: baseline\; color: inherit\;">\n<div style="margin: 0px\; padding: 0px\; border: 0px\; font: inherit\; vertical-align: baseline\; color: inherit\;"><span style="margin: 0px\; padding: 0px\; border: 0px\; font: inherit\; vertical-align: baseline\; color: inherit\;"><font color="black"><span style="margin: 0px\; padding: 0px\; border: 0px\; font-style: inherit\; font-variant-ligatures: common-ligatures\; font-variant-caps: inherit\; font-variant-numeric: inherit\; font-variant-east-asian: inherit\; font-weight: inherit\; font-stretch: inherit\; line-height: inherit\; font-family: Slack-Lato\, Slack-Fractions\, appleLogo\, sans-serif\; vertical-align: baseline\; color: inherit\;">This 2-hour class will focus on providing options to empower women and increase personal safety. We aim to create a safe space to practice both verbal and physical skills for use during triggering or potentially dangerous situations. Skills learned in this class are meant to increase situational awareness and reduce the body&#39\;s natural &quot\;freeze&quot\; response during stress or crisis.</span></font></span></div>\n</div>\n</div>\n</div>\n</div>\n</div>\n
LOCATION:1715 Iron Horse Dr #145
UID:e.3083.8685
SEQUENCE:3
DTSTAMP:20260423T223900Z
URL:https://members.longmontchamber.org/events/details/nexus-edu-women-s-self-defense-class-8685
END:VEVENT

END:VCALENDAR
