BEGIN:VCALENDAR
VERSION:2.0
PRODID:-//ChamberMaster//Event Calendar 2.0//EN
METHOD:PUBLISH
X-PUBLISHED-TTL:P3D
REFRESH-INTERVAL:P3D
CALSCALE:GREGORIAN
BEGIN:VEVENT
DTSTART:20190920T220000Z
DTEND:20190920T220000Z
X-MICROSOFT-CDO-ALLDAYEVENT:FALSE
SUMMARY:Nexus Goes to Oktoberfest!
DESCRIPTION:We want to get out in the community and experience one of the premier events of the year with our Nexus Young Professionals group! Join us in attending Left Hand's Oktoberfest and receive a promo code for 50% off your ticket.\n\nTo receive the promo code\, register through the Longmont Chamber website to attend the event and the promo code will be emailed to you so you can use it while purchasing your ticket.\n\n\n\nThe Nexus group will gather at 4pm at the Longmont Chamber\, 528 Main St.\, and head over to Oktoberfest at 4:30pm.
X-ALT-DESC;FMTTYPE=text/html:<p>We want to get out in the community and experience one of the premier events of the year with our Nexus Young Professionals group! Join us in attending Left Hand&#39\;s Oktoberfest and receive a promo code for 50% off your ticket.</p>\n\n<p>To receive the promo code\, register through the Longmont Chamber website to attend the event and the promo code will be emailed to you so you can use it while purchasing your ticket.<br />\n<br />\nThe Nexus group will gather at 4pm&nbsp\;at the Longmont Chamber\, 528 Main St.\, and head over to Oktoberfest at 4:30pm.</p>\n
LOCATION:We will meet at the Longmont Area Chamber of Commerce between 4pm-4:30pm and go to Roosevelt Park from there. LACC 528 Main St.\, Longmont\, CO 80501 To Roosevelt Park 700 Longs Peak Ave.\, Longmont\, CO 80501
UID:e.3083.7129
SEQUENCE:3
DTSTAMP:20260426T042442Z
URL:https://members.longmontchamber.org/events/details/nexus-goes-to-oktoberfest-7129
END:VEVENT

END:VCALENDAR
