BEGIN:VCALENDAR
VERSION:2.0
PRODID:-//ChamberMaster//Event Calendar 2.0//EN
METHOD:PUBLISH
X-PUBLISHED-TTL:P3D
REFRESH-INTERVAL:P3D
CALSCALE:GREGORIAN
BEGIN:VEVENT
DTSTART:20250213T233000Z
DTEND:20250214T013000Z
X-MICROSOFT-CDO-ALLDAYEVENT:FALSE
SUMMARY:Nexus Mixer | Axe Me Out!
DESCRIPTION:This is a free-form mix and mingle event that provides the opportunity to meet other young professionals in their 20's and 30's from a variety of industries.\nDescription:\n\n   RAGE Against Valentine's Day at Nexus YP Mixer!  \n\nOh February a time for love. It's chilly out\, so bundle up next to your special someone  OR save the mush for Valentine's Day and spend the night before letting your passions out and RAGE!\n\nJoin us on Thursday\, February 13th from 4:30 6:30 PM at Axe Me Out for a Nexus Young Professionals Mixer that's anything but soft and sweet.\n\n  Experience the Nexus Rage Room Special!   Bring 1 to 3 small items (think cups\, bottles\, plates\, jars\, or pots) and enjoy an exhilarating way to relieve stress by smashing them! Glass items are especially delightful to break.\n\n  Axe Throwing Wall   Available for purchase if you're feeling sharp.\n\n  Happy Hour Specials   Because breaking stuff is thirsty work.\n\n  Embrace Your Passion and Unleash Your Inner Primal Rage!   It's all about fun and expression\, with no judgment!\n\nImportant:\n\n  Wear closed-toe shoes for safety.\n\nCome blow off some steam\, meet fellow young professionals\, and kick off your Valentine's weekend with a little edge.\n\nNo pressure. No roses. Just good vibes and great company.\n\nReady to RAGE with us?\n\n  or     You choose.
X-ALT-DESC;FMTTYPE=text/html:<span style="font-size:18px\;">This is a free-form mix and mingle event that provides the opportunity to meet other young professionals in their 20&#39\;s and 30&#39\;s from a variety of industries.</span>\n<p><span style="font-size:18px\;"><strong>Description:</strong></span></p>\n\n<p><span style="font-size:18px\;">&nbsp\;&#128152\; RAGE Against Valentine&rsquo\;s Day at Nexus YP Mixer! &#128165\;</span></p>\n\n<p><span style="font-size:18px\;">Oh February&mdash\;a time for love. It&rsquo\;s chilly out\, so bundle up next to your special someone&hellip\; <strong>OR</strong> save the mush for Valentine&rsquo\;s Day and spend the night before letting your passions out and <strong>RAGE!</strong></span></p>\n\n<p><span style="font-size:18px\;">Join us on <strong>Thursday\, February 13th</strong> from <strong>4:30&ndash\;6:30 PM</strong> at <strong>Axe Me Out</strong> for a Nexus Young Professionals Mixer that&rsquo\;s anything but soft and sweet.</span></p>\n\n<p><span style="font-size:18px\;">&#127919\; <strong>Experience the Nexus Rage Room Special!</strong> &ndash\; Bring <strong>1 to 3 small items</strong> (think cups\, bottles\, plates\, jars\, or pots) and enjoy an exhilarating way to relieve stress by smashing them! <em>Glass items are especially delightful to break.</em><br />\n&#129683\; <strong>Axe Throwing Wall</strong> &ndash\; Available for purchase if you&rsquo\;re feeling sharp.<br />\n&#127865\; <strong>Happy Hour Specials</strong> &ndash\; Because breaking stuff is thirsty work.<br />\n&#128165\; <strong>Embrace Your Passion and Unleash Your Inner Primal Rage!</strong> &ndash\; It&rsquo\;s all about fun and expression\, with <strong>no judgment!</strong></span></p>\n\n<p><span style="font-size:18px\;"><strong>Important:</strong><br />\n&#128095\; Wear <strong>closed-toe shoes</strong> for safety.</span></p>\n\n<p><span style="font-size:18px\;">Come blow off some steam\, meet fellow young professionals\, and kick off your Valentine&rsquo\;s weekend with a little edge.</span></p>\n\n<p><span style="font-size:18px\;"><strong>No pressure. No roses. Just good vibes and great company.</strong></span></p>\n\n<p><span style="font-size:18px\;">Ready to RAGE with us?</span></p>\n\n<p><span style="font-size:18px\;">&#128148\; or &#128165\; &mdash\; You choose.</span><br />\n<br />\n&nbsp\;</p>\n\n<p>&nbsp\;</p>\n
LOCATION:Axe Me Out
UID:e.3083.10742
SEQUENCE:3
DTSTAMP:20260421T174624Z
URL:https://members.longmontchamber.org/events/details/nexus-mixer-axe-me-out-10742
END:VEVENT

END:VCALENDAR
