BEGIN:VCALENDAR
VERSION:2.0
PRODID:-//ChamberMaster//Event Calendar 2.0//EN
METHOD:PUBLISH
X-PUBLISHED-TTL:P3D
REFRESH-INTERVAL:P3D
CALSCALE:GREGORIAN
BEGIN:VEVENT
DTSTART:20250710T223000Z
DTEND:20250711T003000Z
X-MICROSOFT-CDO-ALLDAYEVENT:FALSE
SUMMARY:Nexus Mixer | Backyard Game Night @ Left Hand Biergarten
DESCRIPTION:This is a free-form mix and mingle event that provides the opportunity to meet other young professionals in their 20's and 30's from a variety of industries.\n\n \nNexus YARD GAME Night at Left Hand BIERGARTEN\n\nThursday\, July 10 | 4:30 PM   6:30pm (or stay til' close!)\n\nLeft Hand Biergarten    1265 Boston Ave\, Longmont\n\nRaise a glass and bring your game face.\n\nJoin the Nexus Young Professionals for a laid-back evening of lawn games\, craft beer\, and great company at Left Hand's Open Game Night in The Garden. Whether you're a bocce ball boss\, a cornhole champ\, or just here to vibe and spectate this is your kind of Thursday.\n\n  Spikeball\, volleyball\, bocce\, and cornhole first come\, first serve!\n\n  Enjoy $5 rotating tap specials all evening long\n\n  No awkward icebreakers\, just casual conversation and a little friendly competition\n\nBring a friend\, bring your A-game\, or just bring yourself.\n\nIt's casual. It's playful. It's Nexus.\n\nAvailable to stay later for the good of the Community? \n\n \n\nWant to keep the night going?\n\n\n\nStarting at 6:00 PM\, head into the Tasting Room for Pints & Perspectives\, a free\, bi-weekly discussion series hosted by Left Hand Brewing Co. and the School of Statesmanship\, Stewardship\, and Service. On July 10\, the topic is Sustainability & Resilience come sip\, listen\, and be part of the conversation shaping Longmont's future. Thank you to the School of Statesmanship\, Stewardship and Service (SOSSAS) for inviting us to the follow-on event! \n\nBring a friend\, bring your A-game\, or just bring yourself.\n\nIt's casual. It's playful. It's Community-Minded. It's Nexus.
X-ALT-DESC;FMTTYPE=text/html:This is a free-form mix and mingle event that provides the opportunity to meet other young professionals in their 20&#39\;s and 30&#39\;s from a variety of industries.<br />\n&nbsp\;\n<p data-end="286" data-start="141"><strong data-end="191" data-start="141">Nexus YARD GAME Night at Left Hand BIERGARTEN</strong><br data-end="194" data-start="191" />\n<strong data-end="231" data-start="194">Thursday\, July 10&nbsp\;| 4:30&nbsp\;PM &ndash\; 6:30pm (or stay til&#39\; close!)</strong><br data-end="234" data-start="231" />\n<em data-end="286" data-start="234">Left Hand Biergarten&nbsp\;&nbsp\;&mdash\; 1265 Boston Ave\, Longmont</em></p>\n\n<p data-end="221" data-start="178"><strong data-end="221" data-start="178">Raise a glass and bring your game face.</strong></p>\n\n<p data-end="489" data-start="223">Join the Nexus Young Professionals for a laid-back evening of lawn games\, craft beer\, and great company at Left Hand&rsquo\;s Open Game Night in The Garden. Whether you&#39\;re a bocce ball boss\, a cornhole champ\, or just here to vibe and spectate&mdash\;this is your kind of Thursday.</p>\n\n<p data-end="702" data-start="491">&#127919\; Spikeball\, volleyball\, bocce\, and cornhole&mdash\;first come\, first serve!<br data-end="564" data-start="561" />\n&#127866\; Enjoy $5 rotating tap specials all evening long<br data-end="617" data-start="614" />\n&#129504\; No awkward icebreakers\, just casual conversation and a little friendly competition</p>\n\n<p data-end="803" data-start="704">Bring a friend\, bring your A-game\, or just bring yourself.<br data-end="765" data-start="762" />\nIt&rsquo\;s casual. It&rsquo\;s playful. It&rsquo\;s Nexus.</p>\n\n<p data-end="221" data-start="178"><b>Available to stay later for the good of the Community?&nbsp\;</b><br />\n&nbsp\;</p>\n\n<p data-end="1074" data-start="702"><strong data-end="735" data-start="702">Want to keep the night going?</strong><br />\n<br data-end="738" data-start="735" />\nStarting at 6:00 PM\, head into the Tasting Room for <em data-end="812" data-start="790">Pints &amp\; Perspectives</em>\, a free\, bi-weekly discussion series hosted by Left Hand Brewing Co. and the School of Statesmanship\, Stewardship\, and Service. On July 10\, the topic is <strong data-end="997" data-start="966">Sustainability &amp\; Resilience</strong>&mdash\;come sip\, listen\, and be part of the conversation shaping Longmont&rsquo\;s future. Thank you to the School of Statesmanship\, Stewardship and Service (SOSSAS) for inviting us to the follow-on event!&nbsp\;</p>\n\n<p data-end="1177" data-start="1076">Bring a friend\, bring your A-game\, or just bring yourself.<br data-end="1137" data-start="1134" />\nIt&rsquo\;s casual. It&rsquo\;s playful. It&#39\;s Community-Minded. It&rsquo\;s Nexus.</p>\n\n<p data-end="221" data-start="178">&nbsp\;</p>\n
LOCATION:Biergarten @ Lefthand Brewing
UID:e.3083.13561
SEQUENCE:3
DTSTAMP:20260421T093824Z
URL:https://members.longmontchamber.org/events/details/nexus-mixer-backyard-game-night-left-hand-biergarten-13561
END:VEVENT

END:VCALENDAR
