BEGIN:VCALENDAR
VERSION:2.0
PRODID:-//ChamberMaster//Event Calendar 2.0//EN
METHOD:PUBLISH
X-PUBLISHED-TTL:P3D
REFRESH-INTERVAL:P3D
CALSCALE:GREGORIAN
BEGIN:VEVENT
DTSTART:20210608T220000Z
DTEND:20210609T000000Z
X-MICROSOFT-CDO-ALLDAYEVENT:FALSE
SUMMARY:Nexus Mixer | Beau Jo's Longmont
DESCRIPTION:Join us for our first summer mixer\, hosted by the Longmont Chamber Nexus Young Professionals! All members are welcome\, but registration is required to attend\, so be sure to sign up!\n\n\n\nThis is the first official mixer following our event trial phase. State and County guidelines change quickly\, so our anticipated safety measures may change between now and June 8. Be sure to bring a mask\, regardless of whether or not you have received a full dose of a COVID-19 vaccine. Full event safety information will be sent a few days prior to the event.\n\n\n\nPlease note that when you register for this event\, you will be asked whether or not you have received a full course of a COVID-19 vaccine (two shots of either Pfizer or Moderna\, one shot of Johnson & Johnson). This information will help us be more inclusive of our more cautious members who would like to engage. We will not exclude members based on their vaccine status. You can decline to answer. If you have any questions\, please contact Longmont Chamber CEO Scott Cook at scook@longmontchamber.org.\n\n\n\nThank you for your support in creating a safe gathering!
X-ALT-DESC;FMTTYPE=text/html:Join us for our first summer mixer\, hosted by the Longmont Chamber Nexus Young Professionals! All members are welcome\, but registration is required to attend\, so be sure to sign up!<br />\n<br />\nThis is the first official mixer following our event trial phase. State and County guidelines change quickly\, so our anticipated safety measures may change between now and June 8.&nbsp\;<strong>Be sure to bring a mask</strong>\, regardless of whether or not you have received a full dose of a COVID-19 vaccine. Full event safety information will be sent a few days prior to the event.<br />\n<br />\n<strong>Please note that when you register for this event\, you will be asked whether or not you have received a full course of a COVID-19 vaccine</strong>&nbsp\;(two shots of either Pfizer or Moderna\, one shot of Johnson &amp\; Johnson). This information will help us be more inclusive of our more cautious members who would like to engage.&nbsp\;We will not exclude members based on their vaccine status.&nbsp\;You can decline to answer. If you have any questions\, please contact Longmont Chamber CEO Scott Cook at&nbsp\;<a href="mailto:scook@longmontchamber.org">scook@longmontchamber.org</a>.<br />\n<br />\nThank you for your support in creating a safe gathering!
LOCATION:Beau Jo's Longmont 2033 Ken Pratt Blvd Longmont\, CO 80501 This event will take place outside on the ground-level and rooftop patios.
UID:e.3083.8455
SEQUENCE:3
DTSTAMP:20260424T155239Z
URL:https://members.longmontchamber.org/events/details/nexus-mixer-beau-jo-s-longmont-8455
END:VEVENT

END:VCALENDAR
