BEGIN:VCALENDAR
VERSION:2.0
PRODID:-//ChamberMaster//Event Calendar 2.0//EN
METHOD:PUBLISH
X-PUBLISHED-TTL:P3D
REFRESH-INTERVAL:P3D
CALSCALE:GREGORIAN
BEGIN:VEVENT
DTSTART:20250911T223000Z
DTEND:20250912T003000Z
X-MICROSOFT-CDO-ALLDAYEVENT:FALSE
SUMMARY:Nexus Mixer | Firehouse Art Center
DESCRIPTION:Nexus Volunteer Night: Screen Printing at the Firehouse   \n\nIf you've ever wanted to star in your own small-town rom-com\, this is your scene.  \n\nPicture it: the Firehouse Art Center\, Longmont's creative heartbeat\, smells faintly of ink and excitement. You're handed a squeegee by someone you just met (are they a future best friend  or maybe more?). Together\, you pull a screen print\, laugh when you mess it up\, and realize this is exactly the kind of hot-mess magic your 20s were meant for.\n\nThis month\, Nexus is trading boring name tags for screen printing t-shirts to support ArtWalk on Main Longmont's biggest art festival. We'll roll ink\, get a little messy\, and make memories that feel less like "networking" and more like "meet-cute."\n\nWhy Firehouse?\n\nBecause they're the ones who make Longmont sparkle. With thought-provoking exhibitions\, free art classes for under-resourced communities\, and ArtWalk itself (where Main Street shuts down for music\, food trucks\, chalk art\, and more)\, they're basically the Hallmark Channel of the Creative District.\n\n  When: Thursday\, September 11th\, 4:30 6:30 PM\n\n  Where: Firehouse Art Center\, 667 4th Ave\, Longmont\n\n  Reminder: Nexus meets the second Thursday of every month. Same time\, same small-town magic\, new plot twist.\n\n  We're still looking for hosts for October\, November\, and December. Have a space where 40+ young professionals can gather for their next "meet-cute"? Let's make it happen.\n\nCome for the rom-com energy. Stay for the ink stains and inside jokes.
X-ALT-DESC;FMTTYPE=text/html:<h3 data-end="217" data-start="151">Nexus Volunteer Night: Screen Printing at the Firehouse &#127912\;&#128171\;</h3>\n\n<p data-end="304" data-start="219">If you&rsquo\;ve ever wanted to star in your own small-town rom-com\, this is your scene. &#10024\;</p>\n\n<p data-end="656" data-start="306">Picture it: the Firehouse Art Center\, Longmont&rsquo\;s creative heartbeat\, smells faintly of ink and excitement. You&rsquo\;re handed a squeegee by someone you just met (are they a future best friend&hellip\; or maybe more?). Together\, you pull a screen print\, laugh when you mess it up\, and realize <em data-end="654" data-start="585">this is exactly the kind of hot-mess magic your 20s were meant for.</em></p>\n\n<p data-end="916" data-start="658">This month\, Nexus is trading boring name tags for <strong data-end="736" data-start="708">screen printing t-shirts</strong> to support <strong data-end="767" data-start="748">ArtWalk on Main</strong>&mdash\;Longmont&rsquo\;s biggest art festival. We&rsquo\;ll roll ink\, get a little messy\, and make memories that feel less like &ldquo\;networking&rdquo\; and more like &ldquo\;meet-cute.&rdquo\;</p>\n\n<p data-end="1238" data-start="918"><strong data-end="936" data-start="918">Why Firehouse?</strong><br data-end="939" data-start="936" />\nBecause they&rsquo\;re the ones who make Longmont sparkle. With thought-provoking exhibitions\, free art classes for under-resourced communities\, and ArtWalk itself (where Main Street shuts down for music\, food trucks\, chalk art\, and more)\, they&rsquo\;re basically the Hallmark Channel of the Creative District.</p>\n\n<p data-end="1474" data-start="1240">&#128197\; <strong data-end="1252" data-start="1243">When:</strong> Thursday\, September 11th\, 4:30&ndash\;6:30 PM<br data-end="1294" data-start="1291" />\n&#128205\; <strong data-end="1307" data-start="1297">Where:</strong> Firehouse Art Center\, 667 4th Ave\, Longmont<br data-end="1354" data-start="1351" />\n&#128161\; <strong data-end="1370" data-start="1357">Reminder:</strong> Nexus meets the <strong data-end="1422" data-start="1387">second Thursday of every month.</strong> Same time\, same small-town magic\, new plot twist.</p>\n\n<p data-end="1655" data-start="1476">&#128073\; We&rsquo\;re still looking for hosts for <strong data-end="1549" data-start="1513">October\, November\, and December.</strong> Have a space where 40+ young professionals can gather for their next &ldquo\;meet-cute&rdquo\;? Let&rsquo\;s make it happen.</p>\n\n<p data-end="1732" data-start="1657">Come for the rom-com energy. Stay for the ink stains and inside jokes. &#128149\;</p>\n
LOCATION:Firehouse Art Center
UID:e.3083.14245
SEQUENCE:3
DTSTAMP:20260421T064107Z
URL:https://members.longmontchamber.org/events/details/nexus-mixer-firehouse-art-center-14245
END:VEVENT

END:VCALENDAR
