BEGIN:VCALENDAR
VERSION:2.0
PRODID:-//ChamberMaster//Event Calendar 2.0//EN
METHOD:PUBLISH
X-PUBLISHED-TTL:P3D
REFRESH-INTERVAL:P3D
CALSCALE:GREGORIAN
BEGIN:VEVENT
DTSTART:20190807T223000Z
DTEND:20190808T003000Z
X-MICROSOFT-CDO-ALLDAYEVENT:FALSE
SUMMARY:Nexus Mixer: Grossen Bart Brewery
DESCRIPTION:Join us for a free-form networking event for Young Professionals in their 20's & 30's!\n\n \n\nThis month's event will be hosted at Grossen Bart Brewery. Light snacks will be provided
X-ALT-DESC;FMTTYPE=text/html:<p>Join us for a free-form networking event for Young Professionals in their 20&#39\;s &amp\; 30&#39\;s!</p>\n\n<p>&nbsp\;</p>\n\n<p>This month&#39\;s event will be hosted at Grossen Bart Brewery. Light snacks will be provided</p>\n
LOCATION:Grossen Bart Brewery
UID:e.3083.7091
SEQUENCE:3
DTSTAMP:20260426T041917Z
URL:https://members.longmontchamber.org/events/details/nexus-mixer-grossen-bart-7091
END:VEVENT

END:VCALENDAR
