BEGIN:VCALENDAR
VERSION:2.0
PRODID:-//ChamberMaster//Event Calendar 2.0//EN
METHOD:PUBLISH
X-PUBLISHED-TTL:P3D
REFRESH-INTERVAL:P3D
CALSCALE:GREGORIAN
BEGIN:VEVENT
DTSTART:20220413T213000Z
DTEND:20220413T233000Z
X-MICROSOFT-CDO-ALLDAYEVENT:FALSE
SUMMARY:Nexus Mixer - Martinis Bistro
DESCRIPTION:Join us for our April Nexus Young Professionals Mixer! This month we'll be hanging out at Martinis Bistro. Come enjoy a drink\, see old friends and meet some new ones!\n\n\n\nThis is a free-form mix and mingle event that provides the opportunity to meet other young professionals in their 20's and 30's from a variety of industries. Light snacks will be provided by our host.
X-ALT-DESC;FMTTYPE=text/html:Join us for our April Nexus Young Professionals Mixer! This month we&#39\;ll be hanging out at Martinis Bistro. Come enjoy a drink\, see old friends and meet some new ones!<br />\n<br />\nThis is a free-form mix and mingle event that provides the opportunity to meet other young professionals in their 20&#39\;s and 30&#39\;s from a variety of industries. Light snacks will be provided by our host.
LOCATION:Martinis Bistro 543 Terry St\, Longmont\, CO
UID:e.3083.8667
SEQUENCE:3
DTSTAMP:20260423T235924Z
URL:https://members.longmontchamber.org/events/details/nexus-mixer-martinis-bistro-8667
END:VEVENT

END:VCALENDAR
