BEGIN:VCALENDAR
VERSION:2.0
PRODID:-//ChamberMaster//Event Calendar 2.0//EN
METHOD:PUBLISH
X-PUBLISHED-TTL:P3D
REFRESH-INTERVAL:P3D
CALSCALE:GREGORIAN
BEGIN:VEVENT
DTSTART:20250410T223000Z
DTEND:20250411T003000Z
X-MICROSOFT-CDO-ALLDAYEVENT:FALSE
SUMMARY:Nexus Mixer | Parkway Food Hall
DESCRIPTION:Nexus Young Professionals Mixer @ Parkway Food Hall \n\nCost: Free! Open to all young professionals in their 20s and 30s no Chamber membership required.\n\nLet's Mix\, Mingle\, and Make Some Noise!\n\nJoin the Nexus Young Professionals for an evening of networking\, drinks\, and good times at Parkway Food Hall! Whether you're looking to grow your professional circle\, meet like-minded young professionals\, or just enjoy a laid-back happy hour\, this event is the perfect way to connect.\n\nBut wait there's more! Stick around after the mixer and show off your best (or worst) karaoke skills starting at 7:00 PM!   \n\n  What to Expect:\n\n\n	Casual\, low-pressure networking with other 20- and 30-somethings\n	Happy Hour drink specials available for purchase\n	Light snacks provided   but trust us\, you'll want to grab dinner from one of Parkway's eight incredible restaurants!\n\n\nAbout Our Host: Parkway Food Hall\n\nParkway Food Hall is Longmont's go-to community gathering space\, featuring eight award-winning\, chef-driven restaurants\, a full cocktail bar\, outdoor patios\, an arcade\, and live events every week. Whether you're here for networking\, the game\, or the late-night fun\, Parkway Food Hall has something for everyone.\n\n RSVP Now and bring your friends\, coworkers\, or even your roommates because networking is better with good company!
X-ALT-DESC;FMTTYPE=text/html:<p data-end="459" data-start="111"><strong data-end="174" data-start="111">Nexus Young Professionals Mixer @ Parkway Food Hall&nbsp\;</strong><br data-end="177" data-start="174" />\n<strong data-end="366" data-start="357">Cost:</strong> Free! Open to all young professionals in their 20s and 30s&mdash\;no Chamber membership required.</p>\n\n<p data-end="506" data-start="461"><strong data-end="504" data-start="461">Let&rsquo\;s Mix\, Mingle\, and Make Some Noise!</strong></p>\n\n<p data-end="802" data-start="508">Join the <strong data-end="546" data-start="517">Nexus Young Professionals</strong> for an evening of networking\, drinks\, and good times at <strong data-end="624" data-start="603">Parkway Food Hall</strong>! Whether you&#39\;re looking to grow your professional circle\, meet like-minded young professionals\, or just enjoy a laid-back happy hour\, this event is the perfect way to connect.</p>\n\n<p data-end="936" data-start="804">But wait&mdash\;there&rsquo\;s more! Stick around after the mixer and <strong data-end="929" data-start="860">show off your best (or worst) karaoke skills starting at 7:00 PM!</strong> &#127908\;&#127926\;</p>\n\n<p data-end="962" data-start="938">&#127865\; <strong data-end="960" data-start="941">What to Expect:</strong></p>\n\n<ul data-end="1213" data-start="963">\n	<li data-end="1031" data-start="963">Casual\, low-pressure networking with other 20- and 30-somethings</li>\n	<li data-end="1088" data-start="1032"><strong data-end="1063" data-start="1034">Happy Hour drink specials</strong> available for purchase</li>\n	<li data-end="1213" data-start="1089"><strong data-end="1116" data-start="1091">Light snacks provided</strong> &ndash\; but trust us\, you&rsquo\;ll want to grab dinner from one of Parkway&rsquo\;s eight incredible restaurants!</li>\n</ul>\n\n<p data-end="1572" data-start="1215"><strong data-end="1252" data-start="1215">About Our Host: Parkway Food Hall</strong><br data-end="1255" data-start="1252" />\nParkway Food Hall is Longmont&rsquo\;s go-to community gathering space\, featuring <strong data-end="1455" data-start="1330">eight award-winning\, chef-driven restaurants\, a full cocktail bar\, outdoor patios\, an arcade\, and live events every week.</strong> Whether you&rsquo\;re here for networking\, the game\, or the late-night fun\, Parkway Food Hall has something for everyone.</p>\n\n<p data-end="1697" data-start="1574">&#128272\;<strong data-end="1589" data-start="1577">RSVP Now</strong> and bring your friends\, coworkers\, or even your roommates&mdash\;because networking is better with good company!</p>\n\n<p>&nbsp\;</p>\n
LOCATION:Parkway Food Hall
UID:e.3083.12682
SEQUENCE:3
DTSTAMP:20260421T143205Z
URL:https://members.longmontchamber.org/events/details/nexus-mixer-parkway-food-hall-12682
END:VEVENT

END:VCALENDAR
