BEGIN:VCALENDAR
VERSION:2.0
PRODID:-//ChamberMaster//Event Calendar 2.0//EN
METHOD:PUBLISH
X-PUBLISHED-TTL:P3D
REFRESH-INTERVAL:P3D
CALSCALE:GREGORIAN
BEGIN:VEVENT
DTSTART:20251113T233000Z
DTEND:20251114T013000Z
X-MICROSOFT-CDO-ALLDAYEVENT:FALSE
SUMMARY:Nexus Mixer | Pelo's Deli and Provisions
DESCRIPTION:Join us for the November Nexus Young Professionals Mixer!\n\n\n\nThis November\, we're bringing game night to Pelo's Deli & Provisions! Join Nexus Young Professionals for a casual hour of connection and play   bring a board or card game you love\, or join someone else's. Pelo's cozy environment is the perfect backdrop for good food\, good drinks\, and easy conversation. Whether you're a strategist\, a storyteller\, or just here for the snacks\, we hope to see you there!
X-ALT-DESC;FMTTYPE=text/html:<p data-end="249" data-start="187"><strong data-end="247" data-start="187">Join us for the November&nbsp\;Nexus Young Professionals Mixer!</strong><br />\n<br />\nThis November\, we&rsquo\;re bringing game night to Pelo&rsquo\;s Deli &amp\; Provisions! Join Nexus Young Professionals for a casual hour of connection and play &mdash\; <strong>bring a board or card game you love</strong>\, or join someone else&rsquo\;s. Pelo&rsquo\;s cozy&nbsp\;environment is the perfect backdrop for good food\, good drinks\, and easy conversation. Whether you&rsquo\;re a strategist\, a storyteller\, or just here for the snacks\, we hope to see you there!</p>\n
LOCATION:Pelo's Deli and Provisions
UID:e.3083.14640
SEQUENCE:3
DTSTAMP:20260421T051058Z
URL:https://members.longmontchamber.org/events/details/nexus-mixer-pelo-s-deli-and-provisions-14640
END:VEVENT

END:VCALENDAR
