BEGIN:VCALENDAR
VERSION:2.0
PRODID:-//ChamberMaster//Event Calendar 2.0//EN
METHOD:PUBLISH
X-PUBLISHED-TTL:P3D
REFRESH-INTERVAL:P3D
CALSCALE:GREGORIAN
BEGIN:VEVENT
DTSTART:20251023T223000Z
DTEND:20251024T003000Z
X-MICROSOFT-CDO-ALLDAYEVENT:FALSE
SUMMARY:Nexus Mixer | Quarter's Bar + Arcade
DESCRIPTION:Join us for the October Nexus Young Professionals Mixer!\n\nThis month\, we're leveling up at Quarters Bar + Arcade   because adulthood deserves a few flashing lights and bonus rounds. Grab a drink\, play a game (or five)\, and swap stories with other 20- and 30-somethings who are just as ambitious and delightfully unhinged as you are.\n\nIt's a free-form\, mix-and-mingle kind of night   no forced fun\, no icebreakers\, just chill conversation and maybe a little friendly competition. Light snacks are on the house (and the high scores are up for grabs).\n\nCome for the beer\, stay for the bragging rights.
X-ALT-DESC;FMTTYPE=text/html:<p data-end="249" data-start="187"><strong data-end="247" data-start="187">Join us for the October Nexus Young Professionals Mixer!</strong></p>\n\n<p data-end="533" data-start="251">This month\, we&rsquo\;re leveling up at <strong data-end="311" data-start="284">Quarters Bar +&nbsp\;Arcade</strong> &mdash\; because adulthood deserves a few flashing lights and bonus rounds. Grab a drink\, play a game (or five)\, and swap stories with other 20- and 30-somethings who are just as ambitious and delightfully unhinged as you are.</p>\n\n<p data-end="751" data-start="535">It&rsquo\;s a free-form\, mix-and-mingle kind of night &mdash\; no forced fun\, no icebreakers\, just chill conversation and maybe a little friendly competition. Light snacks are on the house (and the high scores are up for grabs).</p>\n\n<p data-end="803" data-start="753">Come for the beer\, stay for the bragging rights.</p>\n
LOCATION:Quarter's Bar and Arcade
UID:e.3083.14608
SEQUENCE:3
DTSTAMP:20260421T051443Z
URL:https://members.longmontchamber.org/events/details/nexus-mixer-quarter-s-bar-arcade-14608
END:VEVENT

END:VCALENDAR
