BEGIN:VCALENDAR
VERSION:2.0
PRODID:-//ChamberMaster//Event Calendar 2.0//EN
METHOD:PUBLISH
X-PUBLISHED-TTL:P3D
REFRESH-INTERVAL:P3D
CALSCALE:GREGORIAN
BEGIN:VEVENT
DTSTART:20250313T223000Z
DTEND:20250314T003000Z
X-MICROSOFT-CDO-ALLDAYEVENT:FALSE
SUMMARY:Nexus Mixer | The Ironwood Bar
DESCRIPTION:This is a free-form mix and mingle event that provides the opportunity to meet other young professionals in their 20's and 30's from a variety of industries. Light snacks will be provided by our host.\nNexus Young Professionals @ The Ironwood Bar\n\nDate: Thursday\, March 13\n\nTime: 4:30-6:30 PM (FREE V-Golf from 4:30-5:30 PM)\n\nLocation: Ironwood Bar\, 700 Ken Pratt Blvd.\, Longmont\, CO 80501\n\nOpen to: Young professionals in their 20s and 30s. Free & open to the public!\n\n  What to Expect:\n\nHey Nexus! Come check out Longmont's newest bar\, Ironwood Bar a premier sports bar experience with a Chicago sports vibe\, craft drinks\, and an exclusive opportunity to try V-Golf for free! Network with other young professionals in a casual\, fun setting and explore this exciting new Longmont hotspot.\n\n  Bonus: Love Ironwood? RSVP for their special Liverpool Cup Final Watch Party on Sunday\, March 16\, featuring Guinness specials\, free Irish breakfast\, and an 18-foot screen for the big match.\n\nMore Info: https://www.theironwoodbar.com/
X-ALT-DESC;FMTTYPE=text/html:<br />\n<br />\nThis is a free-form mix and mingle event that provides the opportunity to meet other young professionals in their 20&#39\;s and 30&#39\;s from a variety of industries. Light snacks will be provided by our host.\n<h3 data-end="218" data-start="168"><strong data-end="216" data-start="172">Nexus Young Professionals @ The Ironwood Bar</strong></h3>\n\n<p data-end="473" data-start="219"><strong data-end="231" data-start="222">Date:</strong> Thursday\, March 13<br data-end="253" data-start="250" />\n<strong data-end="264" data-start="255">Time:</strong> 4:30-6:30 PM (<em data-end="310" data-start="279">FREE V-Golf from 4:30-5:30 PM</em>)<br data-end="314" data-start="311" />\n<strong data-end="330" data-start="317">Location:</strong> Ironwood Bar\, 700 Ken Pratt Blvd.\, Longmont\, CO 80501<br data-end="387" data-start="384" />\n<strong data-end="402" data-start="390">Open to:</strong> Young professionals in their 20s and 30s. Free &amp\; open to the public!</p>\n\n<p data-end="810" data-start="475">&#128161\; <strong data-end="497" data-start="478">What to Expect:</strong><br data-end="500" data-start="497" />\nHey Nexus! Come check out Longmont&rsquo\;s newest bar\, <strong data-end="565" data-start="549">Ironwood Bar</strong>&mdash\;a premier sports bar experience with a Chicago sports vibe\, craft drinks\, and an exclusive opportunity to try <strong data-end="696" data-start="676">V-Golf for free!</strong> Network with other young professionals in a casual\, fun setting and explore this exciting new Longmont hotspot.</p>\n\n<p data-end="1014" data-start="812">&#128293\; <strong data-end="825" data-start="815">Bonus:</strong> Love Ironwood? RSVP for their special <strong data-end="899" data-start="864">Liverpool Cup Final Watch Party</strong> on Sunday\, March 16\, featuring Guinness specials\, free Irish breakfast\, and an 18-foot screen for the big match.</p>\n\n<p data-end="1056" data-start="1016"><strong data-end="1040" data-start="1019">More Info:</strong> <a href="https://www.theironwoodbar.com/">https://www.theironwoodbar.com/</a></p>\n\n<div style="text-align: center\;">&nbsp\;</div>\n<br />\n&nbsp\;
LOCATION:The Ironwood Bar
UID:e.3083.12141
SEQUENCE:3
DTSTAMP:20260421T160458Z
URL:https://members.longmontchamber.org/events/details/nexus-mixer-the-ironwood-bar-12141
END:VEVENT

END:VCALENDAR
