BEGIN:VCALENDAR
VERSION:2.0
PRODID:-//ChamberMaster//Event Calendar 2.0//EN
METHOD:PUBLISH
X-PUBLISHED-TTL:P3D
REFRESH-INTERVAL:P3D
CALSCALE:GREGORIAN
BEGIN:VEVENT
DTSTART:20250612T223000Z
DTEND:20250613T003000Z
X-MICROSOFT-CDO-ALLDAYEVENT:FALSE
SUMMARY:Nexus Mixer | The Post
DESCRIPTION:Alright\, Nexus fam this month\, we're in for crispy fried chicken and sunshine-soaked patios. It's time to gather your appetite and your networking game\, because June's mixer is cluckin' amazing.\n\nForget the summer bikini season stress for a second.. Let's talk about what really matters: golden fried chicken\, ice-cold beer\, and good people. That's right we're nesting at The Post\, where the vibes are sunny\, the brews are cold\, and the poultry is downright legendary.\n\nWhat to Expect:\n\n  Award-Winning Fried Chicken   Honestly\, we'd come just for the chicken.\n\n  Cold Beer + Appetizers   Because networking is better with snacks.\n\n  Patio Hangs   Manifesting 75 and sunny.\n\n  Cluck-tons of Laughs   (We're sorry. But also not.)\n\nAbout the Venue:\n\nThe Post isn't just a brewery it's a fried chicken fortress of flavor. If you've ever dreamed of professional networking with a drumstick in hand\, this is your moment.\n\nSo\, bring your friends\, your business cards (or don't this is casual)\, and your deepest appreciation for crispy deliciousness. Let's raise a glass (and a chicken wing) to good conversation and great company.\n\n  See you there come hungry.
X-ALT-DESC;FMTTYPE=text/html:<p data-end="469" data-start="217">Alright\, Nexus fam&mdash\;this month\, we&rsquo\;re in for crispy fried chicken and sunshine-soaked patios. It&rsquo\;s time to gather your appetite and your networking game\, because <strong data-end="469" data-start="428">June&#39\;s mixer is cluckin&rsquo\; amazing.</strong></p>\n\n<p data-end="757" data-start="471">Forget the summer bikini season stress for a second.. Let&rsquo\;s talk about what really matters: <strong data-end="573" data-start="549">golden fried chicken</strong>\, <strong data-end="592" data-start="575">ice-cold beer</strong>\, and <strong data-end="613" data-start="598">good people</strong>. That&rsquo\;s right&mdash\;we&rsquo\;re nesting at <strong data-end="669" data-start="645">The Post</strong>\, where the vibes are sunny\, the brews are cold\, and the poultry is downright legendary.</p>\n\n<p data-end="1045" data-start="759"><strong data-end="778" data-start="759">What to Expect:</strong><br data-end="781" data-start="778" />\n&#127831\; <strong data-end="815" data-start="784">Award-Winning Fried Chicken</strong> &ndash\; Honestly\, we&rsquo\;d come just for the chicken.<br data-end="862" data-start="859" />\n&#127866\; <strong data-end="891" data-start="865">Cold Beer + Appetizers</strong> &ndash\; Because networking is better with snacks.<br data-end="938" data-start="935" />\n&#127774\; <strong data-end="956" data-start="941">Patio Hangs</strong> &ndash\; Manifesting 75 and sunny.<br data-end="987" data-start="984" />\n&#128514\; <strong data-end="1014" data-start="990">Cluck-tons of Laughs</strong> &ndash\; (We&rsquo\;re sorry. But also not.)</p>\n\n<p data-end="1237" data-start="1047"><strong data-end="1067" data-start="1047">About the Venue:</strong><br data-end="1070" data-start="1067" />\nThe Post isn&rsquo\;t just a brewery&mdash\;it&rsquo\;s a fried chicken fortress of flavor. If you&rsquo\;ve ever dreamed of professional networking with a drumstick in hand\, this is your moment.</p>\n\n<p data-end="1446" data-start="1239">So\, bring your friends\, your business cards (or don&rsquo\;t&mdash\;this is casual)\, and your deepest appreciation for crispy deliciousness. Let&#39\;s raise a glass (and a chicken wing) to good conversation and great company.</p>\n\n<p data-end="1480" data-start="1448">&#10024\; See you there&mdash\;come hungry. &#10024\;</p>\n
LOCATION:The Post Brewing
UID:e.3083.13526
SEQUENCE:3
DTSTAMP:20260421T111021Z
URL:https://members.longmontchamber.org/events/details/nexus-mixer-the-post-13526
END:VEVENT

END:VCALENDAR
