BEGIN:VCALENDAR
VERSION:2.0
PRODID:-//ChamberMaster//Event Calendar 2.0//EN
METHOD:PUBLISH
X-PUBLISHED-TTL:P3D
REFRESH-INTERVAL:P3D
CALSCALE:GREGORIAN
BEGIN:VEVENT
DTSTART:20250508T223000Z
DTEND:20250509T003000Z
X-MICROSOFT-CDO-ALLDAYEVENT:FALSE
SUMMARY:Nexus Mixer | Vinyl Night @ Lefthand Brewing
DESCRIPTION:This is a free-form mix and mingle event that provides the opportunity to meet other young professionals in their 20's and 30's from a variety of industries.\n\n \n  Nexus Vinyl Night at Left Hand Tasting Room\n\nThursday\, May 8 | 4:30 PM   6:30pm (or stay til' close!)\n\nLeft Hand Tasting Room   1265 Boston Ave\, Longmont\n\nDrop the needle\, raise a glass.\n\nJoin the Nexus Young Professionals for a chill evening of music\, craft beer\, and good company at Left Hand's Vinyl Night. Whether you're a crate-digging record nerd or just here for the vibes\, this is your chance to show off your favorite LP or discover something new.\n\n  Bring a vinyl\, get your first pint on us!\n\n  We'll take turns on the turntable all night so come ready to spin and be spun.\n\n  Great beer\, great people\, and zero networking pressure.\n\nCome as you are\, stay as long as you like. It's casual\, it's nostalgic\, it's Nexus.
X-ALT-DESC;FMTTYPE=text/html:This is a free-form mix and mingle event that provides the opportunity to meet other young professionals in their 20&#39\;s and 30&#39\;s from a variety of industries.<br />\n&nbsp\;\n<p data-end="286" data-start="141"><strong data-end="191" data-start="141">&#127926\; Nexus Vinyl Night at Left Hand Tasting Room</strong><br data-end="194" data-start="191" />\n<strong data-end="231" data-start="194">Thursday\, May 8&nbsp\;| 4:30&nbsp\;PM &ndash\; 6:30pm (or stay til&#39\; close!)</strong><br data-end="234" data-start="231" />\n<em data-end="286" data-start="234">Left Hand Tasting Room &mdash\; 1265 Boston Ave\, Longmont</em></p>\n\n<p data-end="325" data-start="288"><strong data-end="323" data-start="288">Drop the needle\, raise a glass.</strong></p>\n\n<p data-end="599" data-start="327">Join the Nexus Young Professionals for a chill evening of music\, craft beer\, and good company at Left Hand&#39\;s <em data-end="449" data-start="436">Vinyl Night</em>. Whether you&#39\;re a crate-digging record nerd or just here for the vibes\, this is your chance to show off your favorite LP&mdash\;or discover something new.</p>\n\n<p data-end="796" data-start="601">&#127925\; <strong data-end="649" data-start="604">Bring a vinyl\, get your first pint on us!</strong><br data-end="652" data-start="649" />\n&#128192\; We&#39\;ll take turns on the turntable all night&mdash\;so come ready to spin and be spun.<br data-end="736" data-start="733" />\n&#127867\; Great beer\, great people\, and zero networking pressure.</p>\n\n<p data-end="883" data-start="798">Come as you are\, stay as long as you like. It&rsquo\;s casual\, it&rsquo\;s nostalgic\, it&rsquo\;s Nexus.</p>\n\n<h3 data-end="218" data-start="168">&nbsp\;</h3>\n
LOCATION:Tasting Room @ Lefthand Brewing
UID:e.3083.13309
SEQUENCE:3
DTSTAMP:20260421T130223Z
URL:https://members.longmontchamber.org/events/details/nexus-mixer-vinyl-night-lefthand-brewing-13309
END:VEVENT

END:VCALENDAR
