BEGIN:VCALENDAR
VERSION:2.0
PRODID:-//ChamberMaster//Event Calendar 2.0//EN
METHOD:PUBLISH
X-PUBLISHED-TTL:P3D
REFRESH-INTERVAL:P3D
CALSCALE:GREGORIAN
BEGIN:VEVENT
DTSTART:20200107T230000Z
DTEND:20200108T000000Z
X-MICROSOFT-CDO-ALLDAYEVENT:FALSE
SUMMARY:Nexus Young Professionals Book Club
DESCRIPTION:Kickoff the new year with Nexus Book Club!\n\n\n\nPlease bring your favorite book to discuss.\n\n\n\nFor the first meeting we will:\n\nIntroduce ourselves and our favorite books\n\nChoose a new book to read\n\nDetermine a structure for discussions
X-ALT-DESC;FMTTYPE=text/html:Kickoff the new year with Nexus Book Club!<br />\n<br />\nPlease bring your favorite book to discuss.<br />\n<br />\nFor the first meeting we will:<br />\nIntroduce ourselves and our favorite books<br />\nChoose a new book to read<br />\nDetermine a structure for discussions
LOCATION:La Vita Bella 471 Main St Longmont\, CO 80501
UID:e.3083.7366
SEQUENCE:3
DTSTAMP:20260425T201727Z
URL:https://members.longmontchamber.org/events/details/nexus-young-professionals-book-club-7366
END:VEVENT

END:VCALENDAR
